BEGIN:VCALENDAR
VERSION:2.0
PRODID:-//Chartwell Church - ECPv6.13.2.1//NONSGML v1.0//EN
CALSCALE:GREGORIAN
METHOD:PUBLISH
X-ORIGINAL-URL:https://www.chartwellchurch.org.nz
X-WR-CALDESC:Events for Chartwell Church
REFRESH-INTERVAL;VALUE=DURATION:PT1H
X-Robots-Tag:noindex
X-PUBLISHED-TTL:PT1H
BEGIN:VTIMEZONE
TZID:Pacific/Auckland
BEGIN:STANDARD
TZOFFSETFROM:+1300
TZOFFSETTO:+1200
TZNAME:NZST
DTSTART:20230401T140000
END:STANDARD
BEGIN:DAYLIGHT
TZOFFSETFROM:+1200
TZOFFSETTO:+1300
TZNAME:NZDT
DTSTART:20230923T140000
END:DAYLIGHT
BEGIN:STANDARD
TZOFFSETFROM:+1300
TZOFFSETTO:+1200
TZNAME:NZST
DTSTART:20240406T140000
END:STANDARD
BEGIN:DAYLIGHT
TZOFFSETFROM:+1200
TZOFFSETTO:+1300
TZNAME:NZDT
DTSTART:20240928T140000
END:DAYLIGHT
END:VTIMEZONE
BEGIN:VEVENT
DTSTART;TZID=Pacific/Auckland:20240225T160000
DTEND;TZID=Pacific/Auckland:20240225T173000
DTSTAMP:20260421T205704
CREATED:20240218T233450Z
LAST-MODIFIED:20240218T233450Z
UID:10367-1708876800-1708882200@www.chartwellchurch.org.nz
SUMMARY:Messy Church - The two builders
DESCRIPTION:
URL:https://www.chartwellchurch.org.nz/event/messy-church-the-two-builders/
LOCATION:Chartwell Cooperating Church of St Alban’s\, 126 Comries Road\, Hamilton\, 3210\, New Zealand
CATEGORIES:Church,Community Event,Messy Church
ORGANIZER;CN="Youth & Families Team":MAILTO:office@chartwellchurch.org.nz
END:VEVENT
BEGIN:VEVENT
DTSTART;TZID=Pacific/Auckland:20230327T190000
DTEND;TZID=Pacific/Auckland:20230327T203000
DTSTAMP:20260421T205704
CREATED:20230227T204936Z
LAST-MODIFIED:20230227T204936Z
UID:9811-1679943600-1679949000@www.chartwellchurch.org.nz
SUMMARY:Lenten Studies
DESCRIPTION:For this year’s Lenten Studies\, we will explore the Difference course – a 5 session course that will help us to see transformation through everyday encounters. \nThis course was developed in response to the Archbishop of Canterbury Justin Welby’s vision of seeing the church as a presence in reconciling conflict in the communities we are a part of. He says\, “Reconciliation is not the ending of all difference\, but the transformation of how we deal with difference”. For more details\, https://difference.rln.global/ \nFeb 27: God’s Call: God can transform relationships in a conflicted world. God’s call and equipping make that possible.\nMarch 6: Crossing Divides: God invites us to see where difference or prejudice divide us from others and offers us opportunities to see them as God does. \nMarch 13:  Navigating Disagreement: God is with us as we face the challenge of disagreement\, which can become an opportunity for stronger relationships if handled well. \nMarch 20:  Practising Forgiveness: God is with us in the mess and complexity of trying to put forgiveness into practice in our relationships. \nMarch 27: Risking Hope: Doing relationships God’s way will sometimes be risky and resisted\, but the hope it brings is transformative. \n“Reconciliation is not the ending of all difference\, but the transformation of how we deal with difference” (Archbishop Justin Welby). \nPlease email your interest to Jekheli jekheli@chartwellchurch.org.nz .Thank you. \nNau mai haere mai. All are welcome. \n 
URL:https://www.chartwellchurch.org.nz/event/lenten-studies-5/
LOCATION:Chartwell Church\, 124 Comries Road\, Hamilton\, 3281\, New Zealand
CATEGORIES:Church,Community Event,Workshop
END:VEVENT
BEGIN:VEVENT
DTSTART;TZID=Pacific/Auckland:20230320T190000
DTEND;TZID=Pacific/Auckland:20230320T203000
DTSTAMP:20260421T205704
CREATED:20230227T204905Z
LAST-MODIFIED:20230227T204905Z
UID:9809-1679338800-1679344200@www.chartwellchurch.org.nz
SUMMARY:Lenten Studies
DESCRIPTION:For this year’s Lenten Studies\, we will explore the Difference course – a 5 session course that will help us to see transformation through everyday encounters. \nThis course was developed in response to the Archbishop of Canterbury Justin Welby’s vision of seeing the church as a presence in reconciling conflict in the communities we are a part of. He says\, “Reconciliation is not the ending of all difference\, but the transformation of how we deal with difference”. For more details\, https://difference.rln.global/ \nFeb 27: God’s Call: God can transform relationships in a conflicted world. God’s call and equipping make that possible.\nMarch 6: Crossing Divides: God invites us to see where difference or prejudice divide us from others and offers us opportunities to see them as God does. \nMarch 13:  Navigating Disagreement: God is with us as we face the challenge of disagreement\, which can become an opportunity for stronger relationships if handled well. \nMarch 20:  Practising Forgiveness: God is with us in the mess and complexity of trying to put forgiveness into practice in our relationships. \nMarch 27: Risking Hope: Doing relationships God’s way will sometimes be risky and resisted\, but the hope it brings is transformative. \n“Reconciliation is not the ending of all difference\, but the transformation of how we deal with difference” (Archbishop Justin Welby). \nPlease email your interest to Jekheli jekheli@chartwellchurch.org.nz .Thank you. \nNau mai haere mai. All are welcome. \n 
URL:https://www.chartwellchurch.org.nz/event/lenten-studies-4/
LOCATION:Chartwell Church\, 124 Comries Road\, Hamilton\, 3281\, New Zealand
CATEGORIES:Church,Community Event,Workshop
END:VEVENT
BEGIN:VEVENT
DTSTART;TZID=Pacific/Auckland:20230313T190000
DTEND;TZID=Pacific/Auckland:20230313T203000
DTSTAMP:20260421T205704
CREATED:20230227T204849Z
LAST-MODIFIED:20230227T204849Z
UID:9807-1678734000-1678739400@www.chartwellchurch.org.nz
SUMMARY:Lenten Studies
DESCRIPTION:For this year’s Lenten Studies\, we will explore the Difference course – a 5 session course that will help us to see transformation through everyday encounters. \nThis course was developed in response to the Archbishop of Canterbury Justin Welby’s vision of seeing the church as a presence in reconciling conflict in the communities we are a part of. He says\, “Reconciliation is not the ending of all difference\, but the transformation of how we deal with difference”. For more details\, https://difference.rln.global/ \nFeb 27: God’s Call: God can transform relationships in a conflicted world. God’s call and equipping make that possible.\nMarch 6: Crossing Divides: God invites us to see where difference or prejudice divide us from others and offers us opportunities to see them as God does. \nMarch 13:  Navigating Disagreement: God is with us as we face the challenge of disagreement\, which can become an opportunity for stronger relationships if handled well. \nMarch 20:  Practising Forgiveness: God is with us in the mess and complexity of trying to put forgiveness into practice in our relationships. \nMarch 27: Risking Hope: Doing relationships God’s way will sometimes be risky and resisted\, but the hope it brings is transformative. \n“Reconciliation is not the ending of all difference\, but the transformation of how we deal with difference” (Archbishop Justin Welby). \nPlease email your interest to Jekheli jekheli@chartwellchurch.org.nz .Thank you. \nNau mai haere mai. All are welcome. \n 
URL:https://www.chartwellchurch.org.nz/event/lenten-studies-3/
LOCATION:Chartwell Church\, 124 Comries Road\, Hamilton\, 3281\, New Zealand
CATEGORIES:Church,Community Event,Workshop
END:VEVENT
BEGIN:VEVENT
DTSTART;TZID=Pacific/Auckland:20230306T190000
DTEND;TZID=Pacific/Auckland:20230306T203000
DTSTAMP:20260421T205704
CREATED:20230227T204833Z
LAST-MODIFIED:20230227T204833Z
UID:9805-1678129200-1678134600@www.chartwellchurch.org.nz
SUMMARY:Lenten Studies
DESCRIPTION:For this year’s Lenten Studies\, we will explore the Difference course – a 5 session course that will help us to see transformation through everyday encounters. \nThis course was developed in response to the Archbishop of Canterbury Justin Welby’s vision of seeing the church as a presence in reconciling conflict in the communities we are a part of. He says\, “Reconciliation is not the ending of all difference\, but the transformation of how we deal with difference”. For more details\, https://difference.rln.global/ \nFeb 27: God’s Call: God can transform relationships in a conflicted world. God’s call and equipping make that possible.\nMarch 6: Crossing Divides: God invites us to see where difference or prejudice divide us from others and offers us opportunities to see them as God does. \nMarch 13:  Navigating Disagreement: God is with us as we face the challenge of disagreement\, which can become an opportunity for stronger relationships if handled well. \nMarch 20:  Practising Forgiveness: God is with us in the mess and complexity of trying to put forgiveness into practice in our relationships. \nMarch 27: Risking Hope: Doing relationships God’s way will sometimes be risky and resisted\, but the hope it brings is transformative. \n“Reconciliation is not the ending of all difference\, but the transformation of how we deal with difference” (Archbishop Justin Welby). \nPlease email your interest to Jekheli jekheli@chartwellchurch.org.nz .Thank you. \nNau mai haere mai. All are welcome. \n 
URL:https://www.chartwellchurch.org.nz/event/lenten-studies-2/
LOCATION:Chartwell Church\, 124 Comries Road\, Hamilton\, 3281\, New Zealand
CATEGORIES:Church,Community Event,Workshop
END:VEVENT
BEGIN:VEVENT
DTSTART;TZID=Pacific/Auckland:20230227T190000
DTEND;TZID=Pacific/Auckland:20230227T203000
DTSTAMP:20260421T205704
CREATED:20230227T204814Z
LAST-MODIFIED:20230227T204814Z
UID:9803-1677524400-1677529800@www.chartwellchurch.org.nz
SUMMARY:Lenten Studies
DESCRIPTION:For this year’s Lenten Studies\, we will explore the Difference course – a 5 session course that will help us to see transformation through everyday encounters. \nThis course was developed in response to the Archbishop of Canterbury Justin Welby’s vision of seeing the church as a presence in reconciling conflict in the communities we are a part of. He says\, “Reconciliation is not the ending of all difference\, but the transformation of how we deal with difference”. For more details\, https://difference.rln.global/ \nFeb 27: God’s Call: God can transform relationships in a conflicted world. God’s call and equipping make that possible.\nMarch 6: Crossing Divides: God invites us to see where difference or prejudice divide us from others and offers us opportunities to see them as God does. \nMarch 13:  Navigating Disagreement: God is with us as we face the challenge of disagreement\, which can become an opportunity for stronger relationships if handled well. \nMarch 20:  Practising Forgiveness: God is with us in the mess and complexity of trying to put forgiveness into practice in our relationships. \nMarch 27: Risking Hope: Doing relationships God’s way will sometimes be risky and resisted\, but the hope it brings is transformative. \n“Reconciliation is not the ending of all difference\, but the transformation of how we deal with difference” (Archbishop Justin Welby). \nPlease email your interest to Jekheli jekheli@chartwellchurch.org.nz .Thank you. \nNau mai haere mai. All are welcome. \n 
URL:https://www.chartwellchurch.org.nz/event/lenten-studies/
LOCATION:Chartwell Church\, 124 Comries Road\, Hamilton\, 3281\, New Zealand
CATEGORIES:Church,Community Event,Workshop
END:VEVENT
END:VCALENDAR