BEGIN:VCALENDAR
VERSION:2.0
PRODID:-//Chartwell Church - ECPv6.13.2.1//NONSGML v1.0//EN
CALSCALE:GREGORIAN
METHOD:PUBLISH
X-ORIGINAL-URL:https://www.chartwellchurch.org.nz
X-WR-CALDESC:Events for Chartwell Church
REFRESH-INTERVAL;VALUE=DURATION:PT1H
X-Robots-Tag:noindex
X-PUBLISHED-TTL:PT1H
BEGIN:VTIMEZONE
TZID:Pacific/Auckland
BEGIN:STANDARD
TZOFFSETFROM:+1300
TZOFFSETTO:+1200
TZNAME:NZST
DTSTART:20230401T140000
END:STANDARD
BEGIN:DAYLIGHT
TZOFFSETFROM:+1200
TZOFFSETTO:+1300
TZNAME:NZDT
DTSTART:20230923T140000
END:DAYLIGHT
END:VTIMEZONE
BEGIN:VEVENT
DTSTART;TZID=Pacific/Auckland:20230709T080000
DTEND;TZID=Pacific/Auckland:20230709T120000
DTSTAMP:20260420T215836
CREATED:20230201T230738Z
LAST-MODIFIED:20230201T230738Z
UID:9458-1688889600-1688904000@www.chartwellchurch.org.nz
SUMMARY:Sunday Church Services
DESCRIPTION:8am Anglican Holy Communion \n9.30am Family Worship Service \n9.30am Insight Service \nFor more information see https://www.chartwellchurch.org.nz/services/
URL:https://www.chartwellchurch.org.nz/event/sunday-church-services-78/
LOCATION:Chartwell Cooperating Church of St Alban’s\, 126 Comries Road\, Hamilton\, 3210\, New Zealand
CATEGORIES:Church,Fellowship
END:VEVENT
BEGIN:VEVENT
DTSTART;TZID=Pacific/Auckland:20230705T100000
DTEND;TZID=Pacific/Auckland:20230705T110000
DTSTAMP:20260420T215836
CREATED:20230208T012238Z
LAST-MODIFIED:20230208T012238Z
UID:9555-1688551200-1688554800@www.chartwellchurch.org.nz
SUMMARY:Wednesday Church Service
DESCRIPTION:10am Holy Communion \nFor more details see https://www.chartwellchurch.org.nz/services/
URL:https://www.chartwellchurch.org.nz/event/wednesday-church-service-69/
LOCATION:Chartwell Cooperating Church of St Alban’s\, 126 Comries Road\, Hamilton\, 3210\, New Zealand
CATEGORIES:Church,Fellowship
END:VEVENT
BEGIN:VEVENT
DTSTART;TZID=Pacific/Auckland:20230702T080000
DTEND;TZID=Pacific/Auckland:20230702T120000
DTSTAMP:20260420T215836
CREATED:20230201T230523Z
LAST-MODIFIED:20230201T230523Z
UID:9456-1688284800-1688299200@www.chartwellchurch.org.nz
SUMMARY:Sunday Church Services
DESCRIPTION:8am Anglican Holy Communion \n9.30am Family Worship Service \n9.30am Insight Service \nFor more information see https://www.chartwellchurch.org.nz/services/
URL:https://www.chartwellchurch.org.nz/event/sunday-church-services-77/
LOCATION:Chartwell Cooperating Church of St Alban’s\, 126 Comries Road\, Hamilton\, 3210\, New Zealand
CATEGORIES:Church,Fellowship
END:VEVENT
BEGIN:VEVENT
DTSTART;TZID=Pacific/Auckland:20230628T100000
DTEND;TZID=Pacific/Auckland:20230628T110000
DTSTAMP:20260420T215836
CREATED:20230208T012220Z
LAST-MODIFIED:20230208T012220Z
UID:9553-1687946400-1687950000@www.chartwellchurch.org.nz
SUMMARY:Wednesday Church Service
DESCRIPTION:10am Holy Communion \nFor more details see https://www.chartwellchurch.org.nz/services/
URL:https://www.chartwellchurch.org.nz/event/wednesday-church-service-68/
LOCATION:Chartwell Cooperating Church of St Alban’s\, 126 Comries Road\, Hamilton\, 3210\, New Zealand
CATEGORIES:Church,Fellowship
END:VEVENT
BEGIN:VEVENT
DTSTART;TZID=Pacific/Auckland:20230625T080000
DTEND;TZID=Pacific/Auckland:20230625T120000
DTSTAMP:20260420T215836
CREATED:20230201T230504Z
LAST-MODIFIED:20230201T230504Z
UID:9454-1687680000-1687694400@www.chartwellchurch.org.nz
SUMMARY:Sunday Church Services
DESCRIPTION:8am Anglican Holy Communion \n9.30am Family Worship Service \n9.30am Insight Service \nFor more information see https://www.chartwellchurch.org.nz/services/
URL:https://www.chartwellchurch.org.nz/event/sunday-church-services-76/
LOCATION:Chartwell Cooperating Church of St Alban’s\, 126 Comries Road\, Hamilton\, 3210\, New Zealand
CATEGORIES:Church,Fellowship
END:VEVENT
BEGIN:VEVENT
DTSTART;TZID=Pacific/Auckland:20230621T100000
DTEND;TZID=Pacific/Auckland:20230621T110000
DTSTAMP:20260420T215836
CREATED:20230208T012203Z
LAST-MODIFIED:20230208T012203Z
UID:9551-1687341600-1687345200@www.chartwellchurch.org.nz
SUMMARY:Wednesday Church Service
DESCRIPTION:10am Holy Communion \nFor more details see https://www.chartwellchurch.org.nz/services/
URL:https://www.chartwellchurch.org.nz/event/wednesday-church-service-67/
LOCATION:Chartwell Cooperating Church of St Alban’s\, 126 Comries Road\, Hamilton\, 3210\, New Zealand
CATEGORIES:Church,Fellowship
END:VEVENT
BEGIN:VEVENT
DTSTART;TZID=Pacific/Auckland:20230618T080000
DTEND;TZID=Pacific/Auckland:20230618T120000
DTSTAMP:20260420T215836
CREATED:20230201T230444Z
LAST-MODIFIED:20230201T230444Z
UID:9452-1687075200-1687089600@www.chartwellchurch.org.nz
SUMMARY:Sunday Church Services
DESCRIPTION:8am Anglican Holy Communion \n9.30am Family Worship Service \n9.30am Insight Service \nFor more information see https://www.chartwellchurch.org.nz/services/
URL:https://www.chartwellchurch.org.nz/event/sunday-church-services-75/
LOCATION:Chartwell Cooperating Church of St Alban’s\, 126 Comries Road\, Hamilton\, 3210\, New Zealand
CATEGORIES:Church,Fellowship
END:VEVENT
BEGIN:VEVENT
DTSTART;TZID=Pacific/Auckland:20230614T100000
DTEND;TZID=Pacific/Auckland:20230614T110000
DTSTAMP:20260420T215836
CREATED:20230208T012148Z
LAST-MODIFIED:20230208T012148Z
UID:9549-1686736800-1686740400@www.chartwellchurch.org.nz
SUMMARY:Wednesday Church Service
DESCRIPTION:10am Holy Communion \nFor more details see https://www.chartwellchurch.org.nz/services/
URL:https://www.chartwellchurch.org.nz/event/wednesday-church-service-66/
LOCATION:Chartwell Cooperating Church of St Alban’s\, 126 Comries Road\, Hamilton\, 3210\, New Zealand
CATEGORIES:Church,Fellowship
END:VEVENT
BEGIN:VEVENT
DTSTART;TZID=Pacific/Auckland:20230611T080000
DTEND;TZID=Pacific/Auckland:20230611T120000
DTSTAMP:20260420T215836
CREATED:20230201T230357Z
LAST-MODIFIED:20230201T230357Z
UID:9450-1686470400-1686484800@www.chartwellchurch.org.nz
SUMMARY:Sunday Church Services
DESCRIPTION:8am Anglican Holy Communion \n9.30am Family Worship Service \n9.30am Insight Service \nFor more information see https://www.chartwellchurch.org.nz/services/
URL:https://www.chartwellchurch.org.nz/event/sunday-church-services-74/
LOCATION:Chartwell Cooperating Church of St Alban’s\, 126 Comries Road\, Hamilton\, 3210\, New Zealand
CATEGORIES:Church,Fellowship
END:VEVENT
BEGIN:VEVENT
DTSTART;TZID=Pacific/Auckland:20230607T100000
DTEND;TZID=Pacific/Auckland:20230607T110000
DTSTAMP:20260420T215836
CREATED:20230208T012134Z
LAST-MODIFIED:20230208T012134Z
UID:9547-1686132000-1686135600@www.chartwellchurch.org.nz
SUMMARY:Wednesday Church Service
DESCRIPTION:10am Holy Communion \nFor more details see https://www.chartwellchurch.org.nz/services/
URL:https://www.chartwellchurch.org.nz/event/wednesday-church-service-65/
LOCATION:Chartwell Cooperating Church of St Alban’s\, 126 Comries Road\, Hamilton\, 3210\, New Zealand
CATEGORIES:Church,Fellowship
END:VEVENT
BEGIN:VEVENT
DTSTART;TZID=Pacific/Auckland:20230604T080000
DTEND;TZID=Pacific/Auckland:20230604T120000
DTSTAMP:20260420T215836
CREATED:20230201T230137Z
LAST-MODIFIED:20230201T230137Z
UID:9448-1685865600-1685880000@www.chartwellchurch.org.nz
SUMMARY:Sunday Church Services
DESCRIPTION:8am Anglican Holy Communion \n9.30am Family Worship Service \n9.30am Insight Service \nFor more information see https://www.chartwellchurch.org.nz/services/
URL:https://www.chartwellchurch.org.nz/event/sunday-church-services-73/
LOCATION:Chartwell Cooperating Church of St Alban’s\, 126 Comries Road\, Hamilton\, 3210\, New Zealand
CATEGORIES:Church,Fellowship
END:VEVENT
BEGIN:VEVENT
DTSTART;TZID=Pacific/Auckland:20230531T100000
DTEND;TZID=Pacific/Auckland:20230531T110000
DTSTAMP:20260420T215836
CREATED:20230208T012108Z
LAST-MODIFIED:20230208T012108Z
UID:9545-1685527200-1685530800@www.chartwellchurch.org.nz
SUMMARY:Wednesday Church Service
DESCRIPTION:10am Holy Communion \nFor more details see https://www.chartwellchurch.org.nz/services/
URL:https://www.chartwellchurch.org.nz/event/wednesday-church-service-64/
LOCATION:Chartwell Cooperating Church of St Alban’s\, 126 Comries Road\, Hamilton\, 3210\, New Zealand
CATEGORIES:Church,Fellowship
END:VEVENT
BEGIN:VEVENT
DTSTART;TZID=Pacific/Auckland:20230528T080000
DTEND;TZID=Pacific/Auckland:20230528T120000
DTSTAMP:20260420T215836
CREATED:20230201T230121Z
LAST-MODIFIED:20230201T230121Z
UID:9446-1685260800-1685275200@www.chartwellchurch.org.nz
SUMMARY:Sunday Church Services
DESCRIPTION:8am Anglican Holy Communion \n9.30am Family Worship Service \n9.30am Insight Service \nFor more information see https://www.chartwellchurch.org.nz/services/
URL:https://www.chartwellchurch.org.nz/event/sunday-church-services-72/
LOCATION:Chartwell Cooperating Church of St Alban’s\, 126 Comries Road\, Hamilton\, 3210\, New Zealand
CATEGORIES:Church,Fellowship
END:VEVENT
BEGIN:VEVENT
DTSTART;TZID=Pacific/Auckland:20230524T100000
DTEND;TZID=Pacific/Auckland:20230524T110000
DTSTAMP:20260420T215836
CREATED:20230208T012053Z
LAST-MODIFIED:20230208T012053Z
UID:9543-1684922400-1684926000@www.chartwellchurch.org.nz
SUMMARY:Wednesday Church Service
DESCRIPTION:10am Holy Communion \nFor more details see https://www.chartwellchurch.org.nz/services/
URL:https://www.chartwellchurch.org.nz/event/wednesday-church-service-63/
LOCATION:Chartwell Cooperating Church of St Alban’s\, 126 Comries Road\, Hamilton\, 3210\, New Zealand
CATEGORIES:Church,Fellowship
END:VEVENT
BEGIN:VEVENT
DTSTART;TZID=Pacific/Auckland:20230521T080000
DTEND;TZID=Pacific/Auckland:20230521T120000
DTSTAMP:20260420T215836
CREATED:20230201T230105Z
LAST-MODIFIED:20230201T230105Z
UID:9444-1684656000-1684670400@www.chartwellchurch.org.nz
SUMMARY:Sunday Church Services
DESCRIPTION:8am Anglican Holy Communion \n9.30am Family Worship Service \n9.30am Insight Service \nFor more information see https://www.chartwellchurch.org.nz/services/
URL:https://www.chartwellchurch.org.nz/event/sunday-church-services-71/
LOCATION:Chartwell Cooperating Church of St Alban’s\, 126 Comries Road\, Hamilton\, 3210\, New Zealand
CATEGORIES:Church,Fellowship
END:VEVENT
BEGIN:VEVENT
DTSTART;TZID=Pacific/Auckland:20230517T100000
DTEND;TZID=Pacific/Auckland:20230517T110000
DTSTAMP:20260420T215836
CREATED:20230208T012037Z
LAST-MODIFIED:20230208T012037Z
UID:9541-1684317600-1684321200@www.chartwellchurch.org.nz
SUMMARY:Wednesday Church Service
DESCRIPTION:10am Holy Communion \nFor more details see https://www.chartwellchurch.org.nz/services/
URL:https://www.chartwellchurch.org.nz/event/wednesday-church-service-62/
LOCATION:Chartwell Cooperating Church of St Alban’s\, 126 Comries Road\, Hamilton\, 3210\, New Zealand
CATEGORIES:Church,Fellowship
END:VEVENT
BEGIN:VEVENT
DTSTART;TZID=Pacific/Auckland:20230514T080000
DTEND;TZID=Pacific/Auckland:20230514T120000
DTSTAMP:20260420T215836
CREATED:20230201T230050Z
LAST-MODIFIED:20230201T230050Z
UID:9442-1684051200-1684065600@www.chartwellchurch.org.nz
SUMMARY:Sunday Church Services
DESCRIPTION:8am Anglican Holy Communion \n9.30am Family Worship Service \n9.30am Insight Service \nFor more information see https://www.chartwellchurch.org.nz/services/
URL:https://www.chartwellchurch.org.nz/event/sunday-church-services-70/
LOCATION:Chartwell Cooperating Church of St Alban’s\, 126 Comries Road\, Hamilton\, 3210\, New Zealand
CATEGORIES:Church,Fellowship
END:VEVENT
BEGIN:VEVENT
DTSTART;TZID=Pacific/Auckland:20230510T100000
DTEND;TZID=Pacific/Auckland:20230510T110000
DTSTAMP:20260420T215836
CREATED:20230208T012005Z
LAST-MODIFIED:20230208T012005Z
UID:9539-1683712800-1683716400@www.chartwellchurch.org.nz
SUMMARY:Wednesday Church Service
DESCRIPTION:10am Holy Communion \nFor more details see https://www.chartwellchurch.org.nz/services/
URL:https://www.chartwellchurch.org.nz/event/wednesday-church-service-61/
LOCATION:Chartwell Cooperating Church of St Alban’s\, 126 Comries Road\, Hamilton\, 3210\, New Zealand
CATEGORIES:Church,Fellowship
END:VEVENT
BEGIN:VEVENT
DTSTART;TZID=Pacific/Auckland:20230507T080000
DTEND;TZID=Pacific/Auckland:20230507T120000
DTSTAMP:20260420T215836
CREATED:20230201T230034Z
LAST-MODIFIED:20230201T230034Z
UID:9440-1683446400-1683460800@www.chartwellchurch.org.nz
SUMMARY:Sunday Church Services
DESCRIPTION:8am Anglican Holy Communion \n9.30am Family Worship Service \n9.30am Insight Service \nFor more information see https://www.chartwellchurch.org.nz/services/
URL:https://www.chartwellchurch.org.nz/event/sunday-church-services-69/
LOCATION:Chartwell Cooperating Church of St Alban’s\, 126 Comries Road\, Hamilton\, 3210\, New Zealand
CATEGORIES:Church,Fellowship
END:VEVENT
BEGIN:VEVENT
DTSTART;TZID=Pacific/Auckland:20230503T100000
DTEND;TZID=Pacific/Auckland:20230503T110000
DTSTAMP:20260420T215836
CREATED:20230208T011857Z
LAST-MODIFIED:20230208T011911Z
UID:9535-1683108000-1683111600@www.chartwellchurch.org.nz
SUMMARY:Wednesday Church Service
DESCRIPTION:10am Holy Communion \nFor more details see https://www.chartwellchurch.org.nz/services/
URL:https://www.chartwellchurch.org.nz/event/wednesday-church-service-59/
LOCATION:Chartwell Cooperating Church of St Alban’s\, 126 Comries Road\, Hamilton\, 3210\, New Zealand
CATEGORIES:Church,Fellowship
END:VEVENT
BEGIN:VEVENT
DTSTART;TZID=Pacific/Auckland:20230430T080000
DTEND;TZID=Pacific/Auckland:20230430T120000
DTSTAMP:20260420T215836
CREATED:20230201T230010Z
LAST-MODIFIED:20230201T230010Z
UID:9438-1682841600-1682856000@www.chartwellchurch.org.nz
SUMMARY:Sunday Church Services
DESCRIPTION:8am Anglican Holy Communion \n9.30am Family Worship Service \n9.30am Insight Service \nFor more information see https://www.chartwellchurch.org.nz/services/
URL:https://www.chartwellchurch.org.nz/event/sunday-church-services-68/
LOCATION:Chartwell Cooperating Church of St Alban’s\, 126 Comries Road\, Hamilton\, 3210\, New Zealand
CATEGORIES:Church,Fellowship
END:VEVENT
BEGIN:VEVENT
DTSTART;TZID=Pacific/Auckland:20230426T100000
DTEND;TZID=Pacific/Auckland:20230426T110000
DTSTAMP:20260420T215836
CREATED:20230208T011943Z
LAST-MODIFIED:20230208T011943Z
UID:9537-1682503200-1682506800@www.chartwellchurch.org.nz
SUMMARY:Wednesday Church Service
DESCRIPTION:10am Holy Communion \nFor more details see https://www.chartwellchurch.org.nz/services/
URL:https://www.chartwellchurch.org.nz/event/wednesday-church-service-60/
LOCATION:Chartwell Cooperating Church of St Alban’s\, 126 Comries Road\, Hamilton\, 3210\, New Zealand
CATEGORIES:Church,Fellowship
END:VEVENT
BEGIN:VEVENT
DTSTART;TZID=Pacific/Auckland:20230423T080000
DTEND;TZID=Pacific/Auckland:20230423T120000
DTSTAMP:20260420T215836
CREATED:20230201T225135Z
LAST-MODIFIED:20230201T225135Z
UID:9436-1682236800-1682251200@www.chartwellchurch.org.nz
SUMMARY:Sunday Church Services
DESCRIPTION:8am Anglican Holy Communion \n9.30am Family Worship Service \n9.30am Insight Service \nFor more information see https://www.chartwellchurch.org.nz/services/
URL:https://www.chartwellchurch.org.nz/event/sunday-church-services-67/
LOCATION:Chartwell Cooperating Church of St Alban’s\, 126 Comries Road\, Hamilton\, 3210\, New Zealand
CATEGORIES:Church,Fellowship
END:VEVENT
BEGIN:VEVENT
DTSTART;TZID=Pacific/Auckland:20230419T100000
DTEND;TZID=Pacific/Auckland:20230419T110000
DTSTAMP:20260420T215836
CREATED:20230208T011843Z
LAST-MODIFIED:20230208T011843Z
UID:9533-1681898400-1681902000@www.chartwellchurch.org.nz
SUMMARY:Wednesday Church Service
DESCRIPTION:10am Holy Communion \nFor more details see https://www.chartwellchurch.org.nz/services/
URL:https://www.chartwellchurch.org.nz/event/wednesday-church-service-58/
LOCATION:Chartwell Cooperating Church of St Alban’s\, 126 Comries Road\, Hamilton\, 3210\, New Zealand
CATEGORIES:Church,Fellowship
END:VEVENT
BEGIN:VEVENT
DTSTART;TZID=Pacific/Auckland:20230416T080000
DTEND;TZID=Pacific/Auckland:20230416T120000
DTSTAMP:20260420T215836
CREATED:20230201T225120Z
LAST-MODIFIED:20230201T225120Z
UID:9434-1681632000-1681646400@www.chartwellchurch.org.nz
SUMMARY:Sunday Church Services
DESCRIPTION:8am Anglican Holy Communion \n9.30am Family Worship Service \n9.30am Insight Service \nFor more information see https://www.chartwellchurch.org.nz/services/
URL:https://www.chartwellchurch.org.nz/event/sunday-church-services-66/
LOCATION:Chartwell Cooperating Church of St Alban’s\, 126 Comries Road\, Hamilton\, 3210\, New Zealand
CATEGORIES:Church,Fellowship
END:VEVENT
BEGIN:VEVENT
DTSTART;TZID=Pacific/Auckland:20230412T100000
DTEND;TZID=Pacific/Auckland:20230412T110000
DTSTAMP:20260420T215836
CREATED:20230208T011829Z
LAST-MODIFIED:20230208T011829Z
UID:9531-1681293600-1681297200@www.chartwellchurch.org.nz
SUMMARY:Wednesday Church Service
DESCRIPTION:10am Holy Communion \nFor more details see https://www.chartwellchurch.org.nz/services/
URL:https://www.chartwellchurch.org.nz/event/wednesday-church-service-57/
LOCATION:Chartwell Cooperating Church of St Alban’s\, 126 Comries Road\, Hamilton\, 3210\, New Zealand
CATEGORIES:Church,Fellowship
END:VEVENT
BEGIN:VEVENT
DTSTART;TZID=Pacific/Auckland:20230409T080000
DTEND;TZID=Pacific/Auckland:20230409T120000
DTSTAMP:20260420T215836
CREATED:20230201T225105Z
LAST-MODIFIED:20230227T205736Z
UID:9432-1681027200-1681041600@www.chartwellchurch.org.nz
SUMMARY:Easter Sunday
DESCRIPTION:Celebrate Easter with us – see our website and newsletter for more details… \n8am Anglican Holy Communion \n9.30am Family Worship Service \n9.30am Insight Service \nFor more information see https://www.chartwellchurch.org.nz/services/
URL:https://www.chartwellchurch.org.nz/event/sunday-church-services-65/
LOCATION:Chartwell Cooperating Church of St Alban’s\, 126 Comries Road\, Hamilton\, 3210\, New Zealand
CATEGORIES:Church,Fellowship
END:VEVENT
BEGIN:VEVENT
DTSTART;TZID=Pacific/Auckland:20230407T100000
DTEND;TZID=Pacific/Auckland:20230407T113000
DTSTAMP:20260420T215836
CREATED:20230227T210104Z
LAST-MODIFIED:20230227T210104Z
UID:9817-1680861600-1680867000@www.chartwellchurch.org.nz
SUMMARY:Good Friday
DESCRIPTION:This year the combined Good Friday church service will be held at St Joseph’s Catholic Church\, 88 Clarkin Road\, Fairfield. More details to follow …
URL:https://www.chartwellchurch.org.nz/event/good-friday/
CATEGORIES:Church
END:VEVENT
BEGIN:VEVENT
DTSTART;TZID=Pacific/Auckland:20230406T190000
DTEND;TZID=Pacific/Auckland:20230406T200000
DTSTAMP:20260420T215836
CREATED:20230227T205356Z
LAST-MODIFIED:20230227T205433Z
UID:9814-1680807600-1680811200@www.chartwellchurch.org.nz
SUMMARY:Tenebrae Service
DESCRIPTION:Tenebrae Service at 7pm – all welcome. \nMore details to follow on our website and in our newsletter…
URL:https://www.chartwellchurch.org.nz/event/tenebrae-service/
CATEGORIES:Church
END:VEVENT
BEGIN:VEVENT
DTSTART;TZID=Pacific/Auckland:20230405T100000
DTEND;TZID=Pacific/Auckland:20230405T110000
DTSTAMP:20260420T215836
CREATED:20230208T011814Z
LAST-MODIFIED:20230208T011814Z
UID:9529-1680688800-1680692400@www.chartwellchurch.org.nz
SUMMARY:Wednesday Church Service
DESCRIPTION:10am Holy Communion \nFor more details see https://www.chartwellchurch.org.nz/services/
URL:https://www.chartwellchurch.org.nz/event/wednesday-church-service-56/
LOCATION:Chartwell Cooperating Church of St Alban’s\, 126 Comries Road\, Hamilton\, 3210\, New Zealand
CATEGORIES:Church,Fellowship
END:VEVENT
END:VCALENDAR