BEGIN:VCALENDAR
VERSION:2.0
PRODID:-//Chartwell Church - ECPv6.13.2.1//NONSGML v1.0//EN
CALSCALE:GREGORIAN
METHOD:PUBLISH
X-ORIGINAL-URL:https://www.chartwellchurch.org.nz
X-WR-CALDESC:Events for Chartwell Church
REFRESH-INTERVAL;VALUE=DURATION:PT1H
X-Robots-Tag:noindex
X-PUBLISHED-TTL:PT1H
BEGIN:VTIMEZONE
TZID:Pacific/Auckland
BEGIN:STANDARD
TZOFFSETFROM:+1300
TZOFFSETTO:+1200
TZNAME:NZST
DTSTART:20230401T140000
END:STANDARD
BEGIN:DAYLIGHT
TZOFFSETFROM:+1200
TZOFFSETTO:+1300
TZNAME:NZDT
DTSTART:20230923T140000
END:DAYLIGHT
BEGIN:STANDARD
TZOFFSETFROM:+1300
TZOFFSETTO:+1200
TZNAME:NZST
DTSTART:20240406T140000
END:STANDARD
BEGIN:DAYLIGHT
TZOFFSETFROM:+1200
TZOFFSETTO:+1300
TZNAME:NZDT
DTSTART:20240928T140000
END:DAYLIGHT
END:VTIMEZONE
BEGIN:VEVENT
DTSTART;TZID=Pacific/Auckland:20231206T100000
DTEND;TZID=Pacific/Auckland:20231206T110000
DTSTAMP:20260423T114634
CREATED:20230208T212712Z
LAST-MODIFIED:20230208T212712Z
UID:9607-1701856800-1701860400@www.chartwellchurch.org.nz
SUMMARY:Wednesday Church Service
DESCRIPTION:10am Holy Communion \nFor more details see https://www.chartwellchurch.org.nz/services/
URL:https://www.chartwellchurch.org.nz/event/wednesday-church-service-6/
LOCATION:Chartwell Cooperating Church of St Alban’s\, 126 Comries Road\, Hamilton\, 3210\, New Zealand
CATEGORIES:Church,Fellowship
END:VEVENT
BEGIN:VEVENT
DTSTART;TZID=Pacific/Auckland:20231210T080000
DTEND;TZID=Pacific/Auckland:20231210T120000
DTSTAMP:20260423T114634
CREATED:20230201T231441Z
LAST-MODIFIED:20230201T231441Z
UID:9500-1702195200-1702209600@www.chartwellchurch.org.nz
SUMMARY:Sunday Church Services
DESCRIPTION:8am Anglican Holy Communion \n9.30am Family Worship Service \n9.30am Insight Service \nFor more information see https://www.chartwellchurch.org.nz/services/
URL:https://www.chartwellchurch.org.nz/event/sunday-church-services-99/
LOCATION:Chartwell Cooperating Church of St Alban’s\, 126 Comries Road\, Hamilton\, 3210\, New Zealand
CATEGORIES:Church,Fellowship
END:VEVENT
BEGIN:VEVENT
DTSTART;TZID=Pacific/Auckland:20231213T100000
DTEND;TZID=Pacific/Auckland:20231213T110000
DTSTAMP:20260423T114634
CREATED:20230208T212725Z
LAST-MODIFIED:20230208T212725Z
UID:9609-1702461600-1702465200@www.chartwellchurch.org.nz
SUMMARY:Wednesday Church Service
DESCRIPTION:10am Holy Communion \nFor more details see https://www.chartwellchurch.org.nz/services/
URL:https://www.chartwellchurch.org.nz/event/wednesday-church-service-7/
LOCATION:Chartwell Cooperating Church of St Alban’s\, 126 Comries Road\, Hamilton\, 3210\, New Zealand
CATEGORIES:Church,Fellowship
END:VEVENT
BEGIN:VEVENT
DTSTART;TZID=Pacific/Auckland:20231217T080000
DTEND;TZID=Pacific/Auckland:20231217T120000
DTSTAMP:20260423T114634
CREATED:20230201T231458Z
LAST-MODIFIED:20230201T231458Z
UID:9502-1702800000-1702814400@www.chartwellchurch.org.nz
SUMMARY:Sunday Church Services
DESCRIPTION:8am Anglican Holy Communion \n9.30am Family Worship Service \n9.30am Insight Service \nFor more information see https://www.chartwellchurch.org.nz/services/
URL:https://www.chartwellchurch.org.nz/event/sunday-church-services-100/
LOCATION:Chartwell Cooperating Church of St Alban’s\, 126 Comries Road\, Hamilton\, 3210\, New Zealand
CATEGORIES:Church,Fellowship
END:VEVENT
BEGIN:VEVENT
DTSTART;TZID=Pacific/Auckland:20231220T100000
DTEND;TZID=Pacific/Auckland:20231220T110000
DTSTAMP:20260423T114634
CREATED:20230208T212740Z
LAST-MODIFIED:20230208T212740Z
UID:9612-1703066400-1703070000@www.chartwellchurch.org.nz
SUMMARY:Wednesday Church Service
DESCRIPTION:10am Holy Communion \nFor more details see https://www.chartwellchurch.org.nz/services/
URL:https://www.chartwellchurch.org.nz/event/wednesday-church-service-8/
LOCATION:Chartwell Cooperating Church of St Alban’s\, 126 Comries Road\, Hamilton\, 3210\, New Zealand
CATEGORIES:Church,Fellowship
END:VEVENT
BEGIN:VEVENT
DTSTART;TZID=Pacific/Auckland:20231224T080000
DTEND;TZID=Pacific/Auckland:20231224T120000
DTSTAMP:20260423T114634
CREATED:20230201T231513Z
LAST-MODIFIED:20230201T231513Z
UID:9504-1703404800-1703419200@www.chartwellchurch.org.nz
SUMMARY:Sunday Church Services
DESCRIPTION:8am Anglican Holy Communion \n9.30am Family Worship Service \n9.30am Insight Service \nFor more information see https://www.chartwellchurch.org.nz/services/
URL:https://www.chartwellchurch.org.nz/event/sunday-church-services-101/
LOCATION:Chartwell Cooperating Church of St Alban’s\, 126 Comries Road\, Hamilton\, 3210\, New Zealand
CATEGORIES:Church,Fellowship
END:VEVENT
BEGIN:VEVENT
DTSTART;TZID=Pacific/Auckland:20231231T080000
DTEND;TZID=Pacific/Auckland:20231231T120000
DTSTAMP:20260423T114634
CREATED:20230201T231529Z
LAST-MODIFIED:20230201T231529Z
UID:9506-1704009600-1704024000@www.chartwellchurch.org.nz
SUMMARY:Sunday Church Services
DESCRIPTION:8am Anglican Holy Communion \n9.30am Family Worship Service \n9.30am Insight Service \nFor more information see https://www.chartwellchurch.org.nz/services/
URL:https://www.chartwellchurch.org.nz/event/sunday-church-services-102/
LOCATION:Chartwell Cooperating Church of St Alban’s\, 126 Comries Road\, Hamilton\, 3210\, New Zealand
CATEGORIES:Church,Fellowship
END:VEVENT
BEGIN:VEVENT
DTSTART;TZID=Pacific/Auckland:20240225T160000
DTEND;TZID=Pacific/Auckland:20240225T173000
DTSTAMP:20260423T114634
CREATED:20240218T233450Z
LAST-MODIFIED:20240218T233450Z
UID:10367-1708876800-1708882200@www.chartwellchurch.org.nz
SUMMARY:Messy Church - The two builders
DESCRIPTION:
URL:https://www.chartwellchurch.org.nz/event/messy-church-the-two-builders/
LOCATION:Chartwell Cooperating Church of St Alban’s\, 126 Comries Road\, Hamilton\, 3210\, New Zealand
CATEGORIES:Church,Community Event,Messy Church
ORGANIZER;CN="Youth & Families Team":MAILTO:office@chartwellchurch.org.nz
END:VEVENT
END:VCALENDAR