BEGIN:VCALENDAR
VERSION:2.0
PRODID:-//Chartwell Church - ECPv6.13.2.1//NONSGML v1.0//EN
CALSCALE:GREGORIAN
METHOD:PUBLISH
X-WR-CALNAME:Chartwell Church
X-ORIGINAL-URL:https://www.chartwellchurch.org.nz
X-WR-CALDESC:Events for Chartwell Church
REFRESH-INTERVAL;VALUE=DURATION:PT1H
X-Robots-Tag:noindex
X-PUBLISHED-TTL:PT1H
BEGIN:VTIMEZONE
TZID:Pacific/Auckland
BEGIN:STANDARD
TZOFFSETFROM:+1300
TZOFFSETTO:+1200
TZNAME:NZST
DTSTART:20230401T140000
END:STANDARD
BEGIN:DAYLIGHT
TZOFFSETFROM:+1200
TZOFFSETTO:+1300
TZNAME:NZDT
DTSTART:20230923T140000
END:DAYLIGHT
END:VTIMEZONE
BEGIN:VEVENT
DTSTART;TZID=Pacific/Auckland:20230308T100000
DTEND;TZID=Pacific/Auckland:20230308T110000
DTSTAMP:20260421T172346
CREATED:20230208T011652Z
LAST-MODIFIED:20230208T011652Z
UID:9521-1678269600-1678273200@www.chartwellchurch.org.nz
SUMMARY:Wednesday Church Service
DESCRIPTION:10am Holy Communion \nFor more details see https://www.chartwellchurch.org.nz/services/
URL:https://www.chartwellchurch.org.nz/event/wednesday-church-service-52/
LOCATION:Chartwell Cooperating Church of St Alban’s\, 126 Comries Road\, Hamilton\, 3210\, New Zealand
CATEGORIES:Church,Fellowship
END:VEVENT
BEGIN:VEVENT
DTSTART;TZID=Pacific/Auckland:20230306T190000
DTEND;TZID=Pacific/Auckland:20230306T203000
DTSTAMP:20260421T172346
CREATED:20230227T204833Z
LAST-MODIFIED:20230227T204833Z
UID:9805-1678129200-1678134600@www.chartwellchurch.org.nz
SUMMARY:Lenten Studies
DESCRIPTION:For this year’s Lenten Studies\, we will explore the Difference course – a 5 session course that will help us to see transformation through everyday encounters. \nThis course was developed in response to the Archbishop of Canterbury Justin Welby’s vision of seeing the church as a presence in reconciling conflict in the communities we are a part of. He says\, “Reconciliation is not the ending of all difference\, but the transformation of how we deal with difference”. For more details\, https://difference.rln.global/ \nFeb 27: God’s Call: God can transform relationships in a conflicted world. God’s call and equipping make that possible.\nMarch 6: Crossing Divides: God invites us to see where difference or prejudice divide us from others and offers us opportunities to see them as God does. \nMarch 13:  Navigating Disagreement: God is with us as we face the challenge of disagreement\, which can become an opportunity for stronger relationships if handled well. \nMarch 20:  Practising Forgiveness: God is with us in the mess and complexity of trying to put forgiveness into practice in our relationships. \nMarch 27: Risking Hope: Doing relationships God’s way will sometimes be risky and resisted\, but the hope it brings is transformative. \n“Reconciliation is not the ending of all difference\, but the transformation of how we deal with difference” (Archbishop Justin Welby). \nPlease email your interest to Jekheli jekheli@chartwellchurch.org.nz .Thank you. \nNau mai haere mai. All are welcome. \n 
URL:https://www.chartwellchurch.org.nz/event/lenten-studies-2/
LOCATION:Chartwell Church\, 124 Comries Road\, Hamilton\, 3281\, New Zealand
CATEGORIES:Church,Community Event,Workshop
END:VEVENT
BEGIN:VEVENT
DTSTART;TZID=Pacific/Auckland:20230305T080000
DTEND;TZID=Pacific/Auckland:20230305T120000
DTSTAMP:20260421T172346
CREATED:20230201T224902Z
LAST-MODIFIED:20230201T224902Z
UID:9422-1678003200-1678017600@www.chartwellchurch.org.nz
SUMMARY:Sunday Church Services
DESCRIPTION:8am Anglican Holy Communion \n9.30am Family Worship Service \n9.30am Insight Service \nFor more information see https://www.chartwellchurch.org.nz/services/
URL:https://www.chartwellchurch.org.nz/event/sunday-church-services-60/
LOCATION:Chartwell Cooperating Church of St Alban’s\, 126 Comries Road\, Hamilton\, 3210\, New Zealand
CATEGORIES:Church,Fellowship
END:VEVENT
BEGIN:VEVENT
DTSTART;TZID=Pacific/Auckland:20230301T100000
DTEND;TZID=Pacific/Auckland:20230301T110000
DTSTAMP:20260421T172346
CREATED:20230208T011632Z
LAST-MODIFIED:20230208T011632Z
UID:9519-1677664800-1677668400@www.chartwellchurch.org.nz
SUMMARY:Wednesday Church Service
DESCRIPTION:10am Holy Communion \nFor more details see https://www.chartwellchurch.org.nz/services/
URL:https://www.chartwellchurch.org.nz/event/wednesday-church-service-51/
LOCATION:Chartwell Cooperating Church of St Alban’s\, 126 Comries Road\, Hamilton\, 3210\, New Zealand
CATEGORIES:Church,Fellowship
END:VEVENT
BEGIN:VEVENT
DTSTART;TZID=Pacific/Auckland:20230227T190000
DTEND;TZID=Pacific/Auckland:20230227T203000
DTSTAMP:20260421T172346
CREATED:20230227T204814Z
LAST-MODIFIED:20230227T204814Z
UID:9803-1677524400-1677529800@www.chartwellchurch.org.nz
SUMMARY:Lenten Studies
DESCRIPTION:For this year’s Lenten Studies\, we will explore the Difference course – a 5 session course that will help us to see transformation through everyday encounters. \nThis course was developed in response to the Archbishop of Canterbury Justin Welby’s vision of seeing the church as a presence in reconciling conflict in the communities we are a part of. He says\, “Reconciliation is not the ending of all difference\, but the transformation of how we deal with difference”. For more details\, https://difference.rln.global/ \nFeb 27: God’s Call: God can transform relationships in a conflicted world. God’s call and equipping make that possible.\nMarch 6: Crossing Divides: God invites us to see where difference or prejudice divide us from others and offers us opportunities to see them as God does. \nMarch 13:  Navigating Disagreement: God is with us as we face the challenge of disagreement\, which can become an opportunity for stronger relationships if handled well. \nMarch 20:  Practising Forgiveness: God is with us in the mess and complexity of trying to put forgiveness into practice in our relationships. \nMarch 27: Risking Hope: Doing relationships God’s way will sometimes be risky and resisted\, but the hope it brings is transformative. \n“Reconciliation is not the ending of all difference\, but the transformation of how we deal with difference” (Archbishop Justin Welby). \nPlease email your interest to Jekheli jekheli@chartwellchurch.org.nz .Thank you. \nNau mai haere mai. All are welcome. \n 
URL:https://www.chartwellchurch.org.nz/event/lenten-studies/
LOCATION:Chartwell Church\, 124 Comries Road\, Hamilton\, 3281\, New Zealand
CATEGORIES:Church,Community Event,Workshop
END:VEVENT
BEGIN:VEVENT
DTSTART;TZID=Pacific/Auckland:20230226T080000
DTEND;TZID=Pacific/Auckland:20230226T120000
DTSTAMP:20260421T172346
CREATED:20221222T215853Z
LAST-MODIFIED:20221222T215853Z
UID:8978-1677398400-1677412800@www.chartwellchurch.org.nz
SUMMARY:Sunday Church Services
DESCRIPTION:8am Anglican Holy Communion \n9.30am Family Worship Service \n9.30am Insight Service \nFor more information see https://www.chartwellchurch.org.nz/services/
URL:https://www.chartwellchurch.org.nz/event/sunday-church-services-59/
LOCATION:Chartwell Cooperating Church of St Alban’s\, 126 Comries Road\, Hamilton\, 3210\, New Zealand
CATEGORIES:Church,Fellowship
END:VEVENT
BEGIN:VEVENT
DTSTART;TZID=Pacific/Auckland:20230222T100000
DTEND;TZID=Pacific/Auckland:20230222T110000
DTSTAMP:20260421T172346
CREATED:20221222T221245Z
LAST-MODIFIED:20221222T221245Z
UID:8986-1677060000-1677063600@www.chartwellchurch.org.nz
SUMMARY:Wednesday Church Service
DESCRIPTION:10am Holy Communion \nFor more details see https://www.chartwellchurch.org.nz/services/
URL:https://www.chartwellchurch.org.nz/event/wednesday-church-service-50/
LOCATION:Chartwell Cooperating Church of St Alban’s\, 126 Comries Road\, Hamilton\, 3210\, New Zealand
CATEGORIES:Church,Fellowship
END:VEVENT
BEGIN:VEVENT
DTSTART;TZID=Pacific/Auckland:20230219T080000
DTEND;TZID=Pacific/Auckland:20230219T120000
DTSTAMP:20260421T172346
CREATED:20221222T215838Z
LAST-MODIFIED:20221222T215838Z
UID:8976-1676793600-1676808000@www.chartwellchurch.org.nz
SUMMARY:Sunday Church Services
DESCRIPTION:8am Anglican Holy Communion \n9.30am Family Worship Service \n9.30am Insight Service \nFor more information see https://www.chartwellchurch.org.nz/services/
URL:https://www.chartwellchurch.org.nz/event/sunday-church-services-58/
LOCATION:Chartwell Cooperating Church of St Alban’s\, 126 Comries Road\, Hamilton\, 3210\, New Zealand
CATEGORIES:Church,Fellowship
END:VEVENT
BEGIN:VEVENT
DTSTART;TZID=Pacific/Auckland:20230215T100000
DTEND;TZID=Pacific/Auckland:20230215T110000
DTSTAMP:20260421T172346
CREATED:20221222T221226Z
LAST-MODIFIED:20221222T221226Z
UID:8984-1676455200-1676458800@www.chartwellchurch.org.nz
SUMMARY:Wednesday Church Service
DESCRIPTION:10am Holy Communion \nFor more details see https://www.chartwellchurch.org.nz/services/
URL:https://www.chartwellchurch.org.nz/event/wednesday-church-service-45/
LOCATION:Chartwell Cooperating Church of St Alban’s\, 126 Comries Road\, Hamilton\, 3210\, New Zealand
CATEGORIES:Church,Fellowship
END:VEVENT
BEGIN:VEVENT
DTSTART;TZID=Pacific/Auckland:20230212T080000
DTEND;TZID=Pacific/Auckland:20230212T120000
DTSTAMP:20260421T172346
CREATED:20221222T215820Z
LAST-MODIFIED:20221222T215820Z
UID:8974-1676188800-1676203200@www.chartwellchurch.org.nz
SUMMARY:Sunday Church Services
DESCRIPTION:8am Anglican Holy Communion \n9.30am Family Worship Service \n9.30am Insight Service \nFor more information see https://www.chartwellchurch.org.nz/services/
URL:https://www.chartwellchurch.org.nz/event/sunday-church-services-57/
LOCATION:Chartwell Cooperating Church of St Alban’s\, 126 Comries Road\, Hamilton\, 3210\, New Zealand
CATEGORIES:Church,Fellowship
END:VEVENT
BEGIN:VEVENT
DTSTART;TZID=Pacific/Auckland:20230208T100000
DTEND;TZID=Pacific/Auckland:20230208T110000
DTSTAMP:20260421T172346
CREATED:20221222T220020Z
LAST-MODIFIED:20221222T220020Z
UID:8982-1675850400-1675854000@www.chartwellchurch.org.nz
SUMMARY:Wednesday Church Service
DESCRIPTION:10am Holy Communion \nFor more details see https://www.chartwellchurch.org.nz/services/
URL:https://www.chartwellchurch.org.nz/event/wednesday-church-service-44/
LOCATION:Chartwell Cooperating Church of St Alban’s\, 126 Comries Road\, Hamilton\, 3210\, New Zealand
CATEGORIES:Church,Fellowship
END:VEVENT
BEGIN:VEVENT
DTSTART;TZID=Pacific/Auckland:20230205T080000
DTEND;TZID=Pacific/Auckland:20230205T120000
DTSTAMP:20260421T172346
CREATED:20221222T215801Z
LAST-MODIFIED:20221222T215801Z
UID:8972-1675584000-1675598400@www.chartwellchurch.org.nz
SUMMARY:Sunday Church Services
DESCRIPTION:8am Anglican Holy Communion \n9.30am Family Worship Service \n9.30am Insight Service \nFor more information see https://www.chartwellchurch.org.nz/services/
URL:https://www.chartwellchurch.org.nz/event/sunday-church-services-56/
LOCATION:Chartwell Cooperating Church of St Alban’s\, 126 Comries Road\, Hamilton\, 3210\, New Zealand
CATEGORIES:Church,Fellowship
END:VEVENT
BEGIN:VEVENT
DTSTART;TZID=Pacific/Auckland:20230201T100000
DTEND;TZID=Pacific/Auckland:20230201T110000
DTSTAMP:20260421T172346
CREATED:20221222T220004Z
LAST-MODIFIED:20221222T220004Z
UID:8980-1675245600-1675249200@www.chartwellchurch.org.nz
SUMMARY:Wednesday Church Service
DESCRIPTION:10am Holy Communion \nFor more details see https://www.chartwellchurch.org.nz/services/
URL:https://www.chartwellchurch.org.nz/event/wednesday-church-service-43/
LOCATION:Chartwell Cooperating Church of St Alban’s\, 126 Comries Road\, Hamilton\, 3210\, New Zealand
CATEGORIES:Church,Fellowship
END:VEVENT
BEGIN:VEVENT
DTSTART;TZID=Pacific/Auckland:20230129T090000
DTEND;TZID=Pacific/Auckland:20230129T113000
DTSTAMP:20260421T172346
CREATED:20221222T215715Z
LAST-MODIFIED:20221222T215715Z
UID:8970-1674982800-1674991800@www.chartwellchurch.org.nz
SUMMARY:Sunday Church Services
DESCRIPTION:In January we will hold one combined Worship Service at 9am \nFor more information see https://www.chartwellchurch.org.nz/services/
URL:https://www.chartwellchurch.org.nz/event/sunday-church-services-55/
LOCATION:Chartwell Cooperating Church of St Alban’s\, 126 Comries Road\, Hamilton\, 3210\, New Zealand
CATEGORIES:Church,Fellowship
END:VEVENT
BEGIN:VEVENT
DTSTART;TZID=Pacific/Auckland:20230122T090000
DTEND;TZID=Pacific/Auckland:20230122T113000
DTSTAMP:20260421T172346
CREATED:20221222T215659Z
LAST-MODIFIED:20221222T215659Z
UID:8968-1674378000-1674387000@www.chartwellchurch.org.nz
SUMMARY:Sunday Church Services
DESCRIPTION:In January we will hold one combined Worship Service at 9am \nFor more information see https://www.chartwellchurch.org.nz/services/
URL:https://www.chartwellchurch.org.nz/event/sunday-church-services-54/
LOCATION:Chartwell Cooperating Church of St Alban’s\, 126 Comries Road\, Hamilton\, 3210\, New Zealand
CATEGORIES:Church,Fellowship
END:VEVENT
BEGIN:VEVENT
DTSTART;TZID=Pacific/Auckland:20230115T090000
DTEND;TZID=Pacific/Auckland:20230115T113000
DTSTAMP:20260421T172346
CREATED:20221222T215645Z
LAST-MODIFIED:20221222T215645Z
UID:8966-1673773200-1673782200@www.chartwellchurch.org.nz
SUMMARY:Sunday Church Services
DESCRIPTION:In January we will hold one combined Worship Service at 9am \nFor more information see https://www.chartwellchurch.org.nz/services/
URL:https://www.chartwellchurch.org.nz/event/sunday-church-services-47/
LOCATION:Chartwell Cooperating Church of St Alban’s\, 126 Comries Road\, Hamilton\, 3210\, New Zealand
CATEGORIES:Church,Fellowship
END:VEVENT
BEGIN:VEVENT
DTSTART;TZID=Pacific/Auckland:20230108T090000
DTEND;TZID=Pacific/Auckland:20230108T113000
DTSTAMP:20260421T172346
CREATED:20221222T215628Z
LAST-MODIFIED:20221222T215628Z
UID:8964-1673168400-1673177400@www.chartwellchurch.org.nz
SUMMARY:Sunday Church Services
DESCRIPTION:In January we will hold one combined Worship Service at 9am \nFor more information see https://www.chartwellchurch.org.nz/services/
URL:https://www.chartwellchurch.org.nz/event/sunday-church-services-46/
LOCATION:Chartwell Cooperating Church of St Alban’s\, 126 Comries Road\, Hamilton\, 3210\, New Zealand
CATEGORIES:Church,Fellowship
END:VEVENT
BEGIN:VEVENT
DTSTART;TZID=Pacific/Auckland:20230101T090000
DTEND;TZID=Pacific/Auckland:20230101T113000
DTSTAMP:20260421T172346
CREATED:20221222T215611Z
LAST-MODIFIED:20221222T215611Z
UID:8962-1672563600-1672572600@www.chartwellchurch.org.nz
SUMMARY:Sunday Church Services
DESCRIPTION:In January we will hold one combined Worship Service at 9am \nFor more information see https://www.chartwellchurch.org.nz/services/
URL:https://www.chartwellchurch.org.nz/event/sunday-church-services-45/
LOCATION:Chartwell Cooperating Church of St Alban’s\, 126 Comries Road\, Hamilton\, 3210\, New Zealand
CATEGORIES:Church,Fellowship
END:VEVENT
END:VCALENDAR