BEGIN:VCALENDAR
VERSION:2.0
PRODID:-//Chartwell Church - ECPv6.13.2.1//NONSGML v1.0//EN
CALSCALE:GREGORIAN
METHOD:PUBLISH
X-ORIGINAL-URL:https://www.chartwellchurch.org.nz
X-WR-CALDESC:Events for Chartwell Church
REFRESH-INTERVAL;VALUE=DURATION:PT1H
X-Robots-Tag:noindex
X-PUBLISHED-TTL:PT1H
BEGIN:VTIMEZONE
TZID:Pacific/Auckland
BEGIN:STANDARD
TZOFFSETFROM:+1300
TZOFFSETTO:+1200
TZNAME:NZST
DTSTART:20230401T140000
END:STANDARD
BEGIN:DAYLIGHT
TZOFFSETFROM:+1200
TZOFFSETTO:+1300
TZNAME:NZDT
DTSTART:20230923T140000
END:DAYLIGHT
END:VTIMEZONE
BEGIN:VEVENT
DTSTART;TZID=Pacific/Auckland:20230903T080000
DTEND;TZID=Pacific/Auckland:20230903T120000
DTSTAMP:20260423T145055
CREATED:20230201T231049Z
LAST-MODIFIED:20230201T231049Z
UID:9472-1693728000-1693742400@www.chartwellchurch.org.nz
SUMMARY:Sunday Church Services
DESCRIPTION:8am Anglican Holy Communion \n9.30am Family Worship Service \n9.30am Insight Service \nFor more information see https://www.chartwellchurch.org.nz/services/
URL:https://www.chartwellchurch.org.nz/event/sunday-church-services-85/
LOCATION:Chartwell Cooperating Church of St Alban’s\, 126 Comries Road\, Hamilton\, 3210\, New Zealand
CATEGORIES:Church,Fellowship
END:VEVENT
BEGIN:VEVENT
DTSTART;TZID=Pacific/Auckland:20230906T100000
DTEND;TZID=Pacific/Auckland:20230906T110000
DTSTAMP:20260423T145055
CREATED:20230208T012457Z
LAST-MODIFIED:20230208T012457Z
UID:9573-1693994400-1693998000@www.chartwellchurch.org.nz
SUMMARY:Wednesday Church Service
DESCRIPTION:10am Holy Communion \nFor more details see https://www.chartwellchurch.org.nz/services/
URL:https://www.chartwellchurch.org.nz/event/wednesday-church-service-78/
LOCATION:Chartwell Cooperating Church of St Alban’s\, 126 Comries Road\, Hamilton\, 3210\, New Zealand
CATEGORIES:Church,Fellowship
END:VEVENT
BEGIN:VEVENT
DTSTART;TZID=Pacific/Auckland:20230910T080000
DTEND;TZID=Pacific/Auckland:20230910T120000
DTSTAMP:20260423T145055
CREATED:20230201T231113Z
LAST-MODIFIED:20230201T231113Z
UID:9474-1694332800-1694347200@www.chartwellchurch.org.nz
SUMMARY:Sunday Church Services
DESCRIPTION:8am Anglican Holy Communion \n9.30am Family Worship Service \n9.30am Insight Service \nFor more information see https://www.chartwellchurch.org.nz/services/
URL:https://www.chartwellchurch.org.nz/event/sunday-church-services-86/
LOCATION:Chartwell Cooperating Church of St Alban’s\, 126 Comries Road\, Hamilton\, 3210\, New Zealand
CATEGORIES:Church,Fellowship
END:VEVENT
BEGIN:VEVENT
DTSTART;TZID=Pacific/Auckland:20230913T100000
DTEND;TZID=Pacific/Auckland:20230913T110000
DTSTAMP:20260423T145055
CREATED:20230208T012512Z
LAST-MODIFIED:20230208T012512Z
UID:9575-1694599200-1694602800@www.chartwellchurch.org.nz
SUMMARY:Wednesday Church Service
DESCRIPTION:10am Holy Communion \nFor more details see https://www.chartwellchurch.org.nz/services/
URL:https://www.chartwellchurch.org.nz/event/wednesday-church-service-79/
LOCATION:Chartwell Cooperating Church of St Alban’s\, 126 Comries Road\, Hamilton\, 3210\, New Zealand
CATEGORIES:Church,Fellowship
END:VEVENT
BEGIN:VEVENT
DTSTART;TZID=Pacific/Auckland:20230917T080000
DTEND;TZID=Pacific/Auckland:20230917T120000
DTSTAMP:20260423T145055
CREATED:20230201T231133Z
LAST-MODIFIED:20230201T231133Z
UID:9476-1694937600-1694952000@www.chartwellchurch.org.nz
SUMMARY:Sunday Church Services
DESCRIPTION:8am Anglican Holy Communion \n9.30am Family Worship Service \n9.30am Insight Service \nFor more information see https://www.chartwellchurch.org.nz/services/
URL:https://www.chartwellchurch.org.nz/event/sunday-church-services-87/
LOCATION:Chartwell Cooperating Church of St Alban’s\, 126 Comries Road\, Hamilton\, 3210\, New Zealand
CATEGORIES:Church,Fellowship
END:VEVENT
BEGIN:VEVENT
DTSTART;TZID=Pacific/Auckland:20230920T100000
DTEND;TZID=Pacific/Auckland:20230920T110000
DTSTAMP:20260423T145055
CREATED:20230208T012526Z
LAST-MODIFIED:20230208T012526Z
UID:9577-1695204000-1695207600@www.chartwellchurch.org.nz
SUMMARY:Wednesday Church Service
DESCRIPTION:10am Holy Communion \nFor more details see https://www.chartwellchurch.org.nz/services/
URL:https://www.chartwellchurch.org.nz/event/wednesday-church-service-80/
LOCATION:Chartwell Cooperating Church of St Alban’s\, 126 Comries Road\, Hamilton\, 3210\, New Zealand
CATEGORIES:Church,Fellowship
END:VEVENT
BEGIN:VEVENT
DTSTART;TZID=Pacific/Auckland:20230924T080000
DTEND;TZID=Pacific/Auckland:20230924T120000
DTSTAMP:20260423T145055
CREATED:20230201T231148Z
LAST-MODIFIED:20230201T231148Z
UID:9478-1695542400-1695556800@www.chartwellchurch.org.nz
SUMMARY:Sunday Church Services
DESCRIPTION:8am Anglican Holy Communion \n9.30am Family Worship Service \n9.30am Insight Service \nFor more information see https://www.chartwellchurch.org.nz/services/
URL:https://www.chartwellchurch.org.nz/event/sunday-church-services-88/
LOCATION:Chartwell Cooperating Church of St Alban’s\, 126 Comries Road\, Hamilton\, 3210\, New Zealand
CATEGORIES:Church,Fellowship
END:VEVENT
BEGIN:VEVENT
DTSTART;TZID=Pacific/Auckland:20230927T100000
DTEND;TZID=Pacific/Auckland:20230927T110000
DTSTAMP:20260423T145055
CREATED:20230208T012541Z
LAST-MODIFIED:20230208T012541Z
UID:9579-1695808800-1695812400@www.chartwellchurch.org.nz
SUMMARY:Wednesday Church Service
DESCRIPTION:10am Holy Communion \nFor more details see https://www.chartwellchurch.org.nz/services/
URL:https://www.chartwellchurch.org.nz/event/wednesday-church-service-81/
LOCATION:Chartwell Cooperating Church of St Alban’s\, 126 Comries Road\, Hamilton\, 3210\, New Zealand
CATEGORIES:Church,Fellowship
END:VEVENT
END:VCALENDAR