BEGIN:VCALENDAR
VERSION:2.0
PRODID:-//Chartwell Church - ECPv6.13.2.1//NONSGML v1.0//EN
CALSCALE:GREGORIAN
METHOD:PUBLISH
X-WR-CALNAME:Chartwell Church
X-ORIGINAL-URL:https://www.chartwellchurch.org.nz
X-WR-CALDESC:Events for Chartwell Church
REFRESH-INTERVAL;VALUE=DURATION:PT1H
X-Robots-Tag:noindex
X-PUBLISHED-TTL:PT1H
BEGIN:VTIMEZONE
TZID:Pacific/Auckland
BEGIN:STANDARD
TZOFFSETFROM:+1300
TZOFFSETTO:+1200
TZNAME:NZST
DTSTART:20230401T140000
END:STANDARD
BEGIN:DAYLIGHT
TZOFFSETFROM:+1200
TZOFFSETTO:+1300
TZNAME:NZDT
DTSTART:20230923T140000
END:DAYLIGHT
END:VTIMEZONE
BEGIN:VEVENT
DTSTART;TZID=Pacific/Auckland:20230802T100000
DTEND;TZID=Pacific/Auckland:20230802T110000
DTSTAMP:20260423T205802
CREATED:20230208T012341Z
LAST-MODIFIED:20230208T012341Z
UID:9563-1690970400-1690974000@www.chartwellchurch.org.nz
SUMMARY:Wednesday Church Service
DESCRIPTION:10am Holy Communion \nFor more details see https://www.chartwellchurch.org.nz/services/
URL:https://www.chartwellchurch.org.nz/event/wednesday-church-service-73/
LOCATION:Chartwell Cooperating Church of St Alban’s\, 126 Comries Road\, Hamilton\, 3210\, New Zealand
CATEGORIES:Church,Fellowship
END:VEVENT
BEGIN:VEVENT
DTSTART;TZID=Pacific/Auckland:20230806T080000
DTEND;TZID=Pacific/Auckland:20230806T120000
DTSTAMP:20260423T205802
CREATED:20230201T230858Z
LAST-MODIFIED:20230201T230858Z
UID:9466-1691308800-1691323200@www.chartwellchurch.org.nz
SUMMARY:Sunday Church Services
DESCRIPTION:8am Anglican Holy Communion \n9.30am Family Worship Service \n9.30am Insight Service \nFor more information see https://www.chartwellchurch.org.nz/services/
URL:https://www.chartwellchurch.org.nz/event/sunday-church-services-82/
LOCATION:Chartwell Cooperating Church of St Alban’s\, 126 Comries Road\, Hamilton\, 3210\, New Zealand
CATEGORIES:Church,Fellowship
END:VEVENT
BEGIN:VEVENT
DTSTART;TZID=Pacific/Auckland:20230809T100000
DTEND;TZID=Pacific/Auckland:20230809T110000
DTSTAMP:20260423T205802
CREATED:20230208T012356Z
LAST-MODIFIED:20230208T012356Z
UID:9565-1691575200-1691578800@www.chartwellchurch.org.nz
SUMMARY:Wednesday Church Service
DESCRIPTION:10am Holy Communion \nFor more details see https://www.chartwellchurch.org.nz/services/
URL:https://www.chartwellchurch.org.nz/event/wednesday-church-service-74/
LOCATION:Chartwell Cooperating Church of St Alban’s\, 126 Comries Road\, Hamilton\, 3210\, New Zealand
CATEGORIES:Church,Fellowship
END:VEVENT
BEGIN:VEVENT
DTSTART;TZID=Pacific/Auckland:20230813T080000
DTEND;TZID=Pacific/Auckland:20230813T120000
DTSTAMP:20260423T205802
CREATED:20230202T001002Z
LAST-MODIFIED:20230202T001002Z
UID:9511-1691913600-1691928000@www.chartwellchurch.org.nz
SUMMARY:Sunday Church Services
DESCRIPTION:8am Anglican Holy Communion \n9.30am Family Worship Service \n9.30am Insight Service \nFor more information see https://www.chartwellchurch.org.nz/services/
URL:https://www.chartwellchurch.org.nz/event/sunday-church-services-103/
LOCATION:Chartwell Cooperating Church of St Alban’s\, 126 Comries Road\, Hamilton\, 3210\, New Zealand
CATEGORIES:Church,Fellowship
END:VEVENT
BEGIN:VEVENT
DTSTART;TZID=Pacific/Auckland:20230816T100000
DTEND;TZID=Pacific/Auckland:20230816T110000
DTSTAMP:20260423T205802
CREATED:20230208T012410Z
LAST-MODIFIED:20230208T012410Z
UID:9567-1692180000-1692183600@www.chartwellchurch.org.nz
SUMMARY:Wednesday Church Service
DESCRIPTION:10am Holy Communion \nFor more details see https://www.chartwellchurch.org.nz/services/
URL:https://www.chartwellchurch.org.nz/event/wednesday-church-service-75/
LOCATION:Chartwell Cooperating Church of St Alban’s\, 126 Comries Road\, Hamilton\, 3210\, New Zealand
CATEGORIES:Church,Fellowship
END:VEVENT
BEGIN:VEVENT
DTSTART;TZID=Pacific/Auckland:20230820T080000
DTEND;TZID=Pacific/Auckland:20230820T120000
DTSTAMP:20260423T205802
CREATED:20230201T231012Z
LAST-MODIFIED:20230201T231012Z
UID:9468-1692518400-1692532800@www.chartwellchurch.org.nz
SUMMARY:Sunday Church Services
DESCRIPTION:8am Anglican Holy Communion \n9.30am Family Worship Service \n9.30am Insight Service \nFor more information see https://www.chartwellchurch.org.nz/services/
URL:https://www.chartwellchurch.org.nz/event/sunday-church-services-83/
LOCATION:Chartwell Cooperating Church of St Alban’s\, 126 Comries Road\, Hamilton\, 3210\, New Zealand
CATEGORIES:Church,Fellowship
END:VEVENT
BEGIN:VEVENT
DTSTART;TZID=Pacific/Auckland:20230823T100000
DTEND;TZID=Pacific/Auckland:20230823T110000
DTSTAMP:20260423T205802
CREATED:20230208T012424Z
LAST-MODIFIED:20230208T012424Z
UID:9569-1692784800-1692788400@www.chartwellchurch.org.nz
SUMMARY:Wednesday Church Service
DESCRIPTION:10am Holy Communion \nFor more details see https://www.chartwellchurch.org.nz/services/
URL:https://www.chartwellchurch.org.nz/event/wednesday-church-service-76/
LOCATION:Chartwell Cooperating Church of St Alban’s\, 126 Comries Road\, Hamilton\, 3210\, New Zealand
CATEGORIES:Church,Fellowship
END:VEVENT
BEGIN:VEVENT
DTSTART;TZID=Pacific/Auckland:20230827T080000
DTEND;TZID=Pacific/Auckland:20230827T120000
DTSTAMP:20260423T205802
CREATED:20230201T231032Z
LAST-MODIFIED:20230201T231032Z
UID:9470-1693123200-1693137600@www.chartwellchurch.org.nz
SUMMARY:Sunday Church Services
DESCRIPTION:8am Anglican Holy Communion \n9.30am Family Worship Service \n9.30am Insight Service \nFor more information see https://www.chartwellchurch.org.nz/services/
URL:https://www.chartwellchurch.org.nz/event/sunday-church-services-84/
LOCATION:Chartwell Cooperating Church of St Alban’s\, 126 Comries Road\, Hamilton\, 3210\, New Zealand
CATEGORIES:Church,Fellowship
END:VEVENT
BEGIN:VEVENT
DTSTART;TZID=Pacific/Auckland:20230830T100000
DTEND;TZID=Pacific/Auckland:20230830T110000
DTSTAMP:20260423T205802
CREATED:20230208T012441Z
LAST-MODIFIED:20230208T012441Z
UID:9571-1693389600-1693393200@www.chartwellchurch.org.nz
SUMMARY:Wednesday Church Service
DESCRIPTION:10am Holy Communion \nFor more details see https://www.chartwellchurch.org.nz/services/
URL:https://www.chartwellchurch.org.nz/event/wednesday-church-service-77/
LOCATION:Chartwell Cooperating Church of St Alban’s\, 126 Comries Road\, Hamilton\, 3210\, New Zealand
CATEGORIES:Church,Fellowship
END:VEVENT
END:VCALENDAR