BEGIN:VCALENDAR
VERSION:2.0
PRODID:-//Chartwell Church - ECPv6.13.2.1//NONSGML v1.0//EN
CALSCALE:GREGORIAN
METHOD:PUBLISH
X-WR-CALNAME:Chartwell Church
X-ORIGINAL-URL:https://www.chartwellchurch.org.nz
X-WR-CALDESC:Events for Chartwell Church
REFRESH-INTERVAL;VALUE=DURATION:PT1H
X-Robots-Tag:noindex
X-PUBLISHED-TTL:PT1H
BEGIN:VTIMEZONE
TZID:Pacific/Auckland
BEGIN:STANDARD
TZOFFSETFROM:+1300
TZOFFSETTO:+1200
TZNAME:NZST
DTSTART:20230401T140000
END:STANDARD
BEGIN:DAYLIGHT
TZOFFSETFROM:+1200
TZOFFSETTO:+1300
TZNAME:NZDT
DTSTART:20230923T140000
END:DAYLIGHT
END:VTIMEZONE
BEGIN:VEVENT
DTSTART;TZID=Pacific/Auckland:20230301T100000
DTEND;TZID=Pacific/Auckland:20230301T110000
DTSTAMP:20260424T061935
CREATED:20230208T011632Z
LAST-MODIFIED:20230208T011632Z
UID:9519-1677664800-1677668400@www.chartwellchurch.org.nz
SUMMARY:Wednesday Church Service
DESCRIPTION:10am Holy Communion \nFor more details see https://www.chartwellchurch.org.nz/services/
URL:https://www.chartwellchurch.org.nz/event/wednesday-church-service-51/
LOCATION:Chartwell Cooperating Church of St Alban’s\, 126 Comries Road\, Hamilton\, 3210\, New Zealand
CATEGORIES:Church,Fellowship
END:VEVENT
BEGIN:VEVENT
DTSTART;TZID=Pacific/Auckland:20230305T080000
DTEND;TZID=Pacific/Auckland:20230305T120000
DTSTAMP:20260424T061935
CREATED:20230201T224902Z
LAST-MODIFIED:20230201T224902Z
UID:9422-1678003200-1678017600@www.chartwellchurch.org.nz
SUMMARY:Sunday Church Services
DESCRIPTION:8am Anglican Holy Communion \n9.30am Family Worship Service \n9.30am Insight Service \nFor more information see https://www.chartwellchurch.org.nz/services/
URL:https://www.chartwellchurch.org.nz/event/sunday-church-services-60/
LOCATION:Chartwell Cooperating Church of St Alban’s\, 126 Comries Road\, Hamilton\, 3210\, New Zealand
CATEGORIES:Church,Fellowship
END:VEVENT
BEGIN:VEVENT
DTSTART;TZID=Pacific/Auckland:20230306T190000
DTEND;TZID=Pacific/Auckland:20230306T203000
DTSTAMP:20260424T061935
CREATED:20230227T204833Z
LAST-MODIFIED:20230227T204833Z
UID:9805-1678129200-1678134600@www.chartwellchurch.org.nz
SUMMARY:Lenten Studies
DESCRIPTION:For this year’s Lenten Studies\, we will explore the Difference course – a 5 session course that will help us to see transformation through everyday encounters. \nThis course was developed in response to the Archbishop of Canterbury Justin Welby’s vision of seeing the church as a presence in reconciling conflict in the communities we are a part of. He says\, “Reconciliation is not the ending of all difference\, but the transformation of how we deal with difference”. For more details\, https://difference.rln.global/ \nFeb 27: God’s Call: God can transform relationships in a conflicted world. God’s call and equipping make that possible.\nMarch 6: Crossing Divides: God invites us to see where difference or prejudice divide us from others and offers us opportunities to see them as God does. \nMarch 13:  Navigating Disagreement: God is with us as we face the challenge of disagreement\, which can become an opportunity for stronger relationships if handled well. \nMarch 20:  Practising Forgiveness: God is with us in the mess and complexity of trying to put forgiveness into practice in our relationships. \nMarch 27: Risking Hope: Doing relationships God’s way will sometimes be risky and resisted\, but the hope it brings is transformative. \n“Reconciliation is not the ending of all difference\, but the transformation of how we deal with difference” (Archbishop Justin Welby). \nPlease email your interest to Jekheli jekheli@chartwellchurch.org.nz .Thank you. \nNau mai haere mai. All are welcome. \n 
URL:https://www.chartwellchurch.org.nz/event/lenten-studies-2/
LOCATION:Chartwell Church\, 124 Comries Road\, Hamilton\, 3281\, New Zealand
CATEGORIES:Church,Community Event,Workshop
END:VEVENT
BEGIN:VEVENT
DTSTART;TZID=Pacific/Auckland:20230308T100000
DTEND;TZID=Pacific/Auckland:20230308T110000
DTSTAMP:20260424T061935
CREATED:20230208T011652Z
LAST-MODIFIED:20230208T011652Z
UID:9521-1678269600-1678273200@www.chartwellchurch.org.nz
SUMMARY:Wednesday Church Service
DESCRIPTION:10am Holy Communion \nFor more details see https://www.chartwellchurch.org.nz/services/
URL:https://www.chartwellchurch.org.nz/event/wednesday-church-service-52/
LOCATION:Chartwell Cooperating Church of St Alban’s\, 126 Comries Road\, Hamilton\, 3210\, New Zealand
CATEGORIES:Church,Fellowship
END:VEVENT
BEGIN:VEVENT
DTSTART;TZID=Pacific/Auckland:20230312T080000
DTEND;TZID=Pacific/Auckland:20230312T120000
DTSTAMP:20260424T061935
CREATED:20230201T224928Z
LAST-MODIFIED:20230201T224928Z
UID:9424-1678608000-1678622400@www.chartwellchurch.org.nz
SUMMARY:Sunday Church Services
DESCRIPTION:8am Anglican Holy Communion \n9.30am Family Worship Service \n9.30am Insight Service \nFor more information see https://www.chartwellchurch.org.nz/services/
URL:https://www.chartwellchurch.org.nz/event/sunday-church-services-61/
LOCATION:Chartwell Cooperating Church of St Alban’s\, 126 Comries Road\, Hamilton\, 3210\, New Zealand
CATEGORIES:Church,Fellowship
END:VEVENT
BEGIN:VEVENT
DTSTART;TZID=Pacific/Auckland:20230313T190000
DTEND;TZID=Pacific/Auckland:20230313T203000
DTSTAMP:20260424T061935
CREATED:20230227T204849Z
LAST-MODIFIED:20230227T204849Z
UID:9807-1678734000-1678739400@www.chartwellchurch.org.nz
SUMMARY:Lenten Studies
DESCRIPTION:For this year’s Lenten Studies\, we will explore the Difference course – a 5 session course that will help us to see transformation through everyday encounters. \nThis course was developed in response to the Archbishop of Canterbury Justin Welby’s vision of seeing the church as a presence in reconciling conflict in the communities we are a part of. He says\, “Reconciliation is not the ending of all difference\, but the transformation of how we deal with difference”. For more details\, https://difference.rln.global/ \nFeb 27: God’s Call: God can transform relationships in a conflicted world. God’s call and equipping make that possible.\nMarch 6: Crossing Divides: God invites us to see where difference or prejudice divide us from others and offers us opportunities to see them as God does. \nMarch 13:  Navigating Disagreement: God is with us as we face the challenge of disagreement\, which can become an opportunity for stronger relationships if handled well. \nMarch 20:  Practising Forgiveness: God is with us in the mess and complexity of trying to put forgiveness into practice in our relationships. \nMarch 27: Risking Hope: Doing relationships God’s way will sometimes be risky and resisted\, but the hope it brings is transformative. \n“Reconciliation is not the ending of all difference\, but the transformation of how we deal with difference” (Archbishop Justin Welby). \nPlease email your interest to Jekheli jekheli@chartwellchurch.org.nz .Thank you. \nNau mai haere mai. All are welcome. \n 
URL:https://www.chartwellchurch.org.nz/event/lenten-studies-3/
LOCATION:Chartwell Church\, 124 Comries Road\, Hamilton\, 3281\, New Zealand
CATEGORIES:Church,Community Event,Workshop
END:VEVENT
BEGIN:VEVENT
DTSTART;TZID=Pacific/Auckland:20230315T100000
DTEND;TZID=Pacific/Auckland:20230315T110000
DTSTAMP:20260424T061935
CREATED:20230208T011716Z
LAST-MODIFIED:20230208T011716Z
UID:9523-1678874400-1678878000@www.chartwellchurch.org.nz
SUMMARY:Wednesday Church Service
DESCRIPTION:10am Holy Communion \nFor more details see https://www.chartwellchurch.org.nz/services/
URL:https://www.chartwellchurch.org.nz/event/wednesday-church-service-53/
LOCATION:Chartwell Cooperating Church of St Alban’s\, 126 Comries Road\, Hamilton\, 3210\, New Zealand
CATEGORIES:Church,Fellowship
END:VEVENT
BEGIN:VEVENT
DTSTART;TZID=Pacific/Auckland:20230319T080000
DTEND;TZID=Pacific/Auckland:20230319T120000
DTSTAMP:20260424T061935
CREATED:20230201T224948Z
LAST-MODIFIED:20230201T224948Z
UID:9426-1679212800-1679227200@www.chartwellchurch.org.nz
SUMMARY:Sunday Church Services
DESCRIPTION:8am Anglican Holy Communion \n9.30am Family Worship Service \n9.30am Insight Service \nFor more information see https://www.chartwellchurch.org.nz/services/
URL:https://www.chartwellchurch.org.nz/event/sunday-church-services-62/
LOCATION:Chartwell Cooperating Church of St Alban’s\, 126 Comries Road\, Hamilton\, 3210\, New Zealand
CATEGORIES:Church,Fellowship
END:VEVENT
BEGIN:VEVENT
DTSTART;TZID=Pacific/Auckland:20230320T190000
DTEND;TZID=Pacific/Auckland:20230320T203000
DTSTAMP:20260424T061935
CREATED:20230227T204905Z
LAST-MODIFIED:20230227T204905Z
UID:9809-1679338800-1679344200@www.chartwellchurch.org.nz
SUMMARY:Lenten Studies
DESCRIPTION:For this year’s Lenten Studies\, we will explore the Difference course – a 5 session course that will help us to see transformation through everyday encounters. \nThis course was developed in response to the Archbishop of Canterbury Justin Welby’s vision of seeing the church as a presence in reconciling conflict in the communities we are a part of. He says\, “Reconciliation is not the ending of all difference\, but the transformation of how we deal with difference”. For more details\, https://difference.rln.global/ \nFeb 27: God’s Call: God can transform relationships in a conflicted world. God’s call and equipping make that possible.\nMarch 6: Crossing Divides: God invites us to see where difference or prejudice divide us from others and offers us opportunities to see them as God does. \nMarch 13:  Navigating Disagreement: God is with us as we face the challenge of disagreement\, which can become an opportunity for stronger relationships if handled well. \nMarch 20:  Practising Forgiveness: God is with us in the mess and complexity of trying to put forgiveness into practice in our relationships. \nMarch 27: Risking Hope: Doing relationships God’s way will sometimes be risky and resisted\, but the hope it brings is transformative. \n“Reconciliation is not the ending of all difference\, but the transformation of how we deal with difference” (Archbishop Justin Welby). \nPlease email your interest to Jekheli jekheli@chartwellchurch.org.nz .Thank you. \nNau mai haere mai. All are welcome. \n 
URL:https://www.chartwellchurch.org.nz/event/lenten-studies-4/
LOCATION:Chartwell Church\, 124 Comries Road\, Hamilton\, 3281\, New Zealand
CATEGORIES:Church,Community Event,Workshop
END:VEVENT
BEGIN:VEVENT
DTSTART;TZID=Pacific/Auckland:20230322T100000
DTEND;TZID=Pacific/Auckland:20230322T110000
DTSTAMP:20260424T061935
CREATED:20230208T011739Z
LAST-MODIFIED:20230208T011739Z
UID:9525-1679479200-1679482800@www.chartwellchurch.org.nz
SUMMARY:Wednesday Church Service
DESCRIPTION:10am Holy Communion \nFor more details see https://www.chartwellchurch.org.nz/services/
URL:https://www.chartwellchurch.org.nz/event/wednesday-church-service-54/
LOCATION:Chartwell Cooperating Church of St Alban’s\, 126 Comries Road\, Hamilton\, 3210\, New Zealand
CATEGORIES:Church,Fellowship
END:VEVENT
BEGIN:VEVENT
DTSTART;TZID=Pacific/Auckland:20230326T080000
DTEND;TZID=Pacific/Auckland:20230326T120000
DTSTAMP:20260424T061935
CREATED:20230201T225006Z
LAST-MODIFIED:20230201T225006Z
UID:9428-1679817600-1679832000@www.chartwellchurch.org.nz
SUMMARY:Sunday Church Services
DESCRIPTION:8am Anglican Holy Communion \n9.30am Family Worship Service \n9.30am Insight Service \nFor more information see https://www.chartwellchurch.org.nz/services/
URL:https://www.chartwellchurch.org.nz/event/sunday-church-services-63/
LOCATION:Chartwell Cooperating Church of St Alban’s\, 126 Comries Road\, Hamilton\, 3210\, New Zealand
CATEGORIES:Church,Fellowship
END:VEVENT
BEGIN:VEVENT
DTSTART;TZID=Pacific/Auckland:20230327T190000
DTEND;TZID=Pacific/Auckland:20230327T203000
DTSTAMP:20260424T061935
CREATED:20230227T204936Z
LAST-MODIFIED:20230227T204936Z
UID:9811-1679943600-1679949000@www.chartwellchurch.org.nz
SUMMARY:Lenten Studies
DESCRIPTION:For this year’s Lenten Studies\, we will explore the Difference course – a 5 session course that will help us to see transformation through everyday encounters. \nThis course was developed in response to the Archbishop of Canterbury Justin Welby’s vision of seeing the church as a presence in reconciling conflict in the communities we are a part of. He says\, “Reconciliation is not the ending of all difference\, but the transformation of how we deal with difference”. For more details\, https://difference.rln.global/ \nFeb 27: God’s Call: God can transform relationships in a conflicted world. God’s call and equipping make that possible.\nMarch 6: Crossing Divides: God invites us to see where difference or prejudice divide us from others and offers us opportunities to see them as God does. \nMarch 13:  Navigating Disagreement: God is with us as we face the challenge of disagreement\, which can become an opportunity for stronger relationships if handled well. \nMarch 20:  Practising Forgiveness: God is with us in the mess and complexity of trying to put forgiveness into practice in our relationships. \nMarch 27: Risking Hope: Doing relationships God’s way will sometimes be risky and resisted\, but the hope it brings is transformative. \n“Reconciliation is not the ending of all difference\, but the transformation of how we deal with difference” (Archbishop Justin Welby). \nPlease email your interest to Jekheli jekheli@chartwellchurch.org.nz .Thank you. \nNau mai haere mai. All are welcome. \n 
URL:https://www.chartwellchurch.org.nz/event/lenten-studies-5/
LOCATION:Chartwell Church\, 124 Comries Road\, Hamilton\, 3281\, New Zealand
CATEGORIES:Church,Community Event,Workshop
END:VEVENT
BEGIN:VEVENT
DTSTART;TZID=Pacific/Auckland:20230329T100000
DTEND;TZID=Pacific/Auckland:20230329T110000
DTSTAMP:20260424T061935
CREATED:20230208T011758Z
LAST-MODIFIED:20230208T011758Z
UID:9527-1680084000-1680087600@www.chartwellchurch.org.nz
SUMMARY:Wednesday Church Service
DESCRIPTION:10am Holy Communion \nFor more details see https://www.chartwellchurch.org.nz/services/
URL:https://www.chartwellchurch.org.nz/event/wednesday-church-service-55/
LOCATION:Chartwell Cooperating Church of St Alban’s\, 126 Comries Road\, Hamilton\, 3210\, New Zealand
CATEGORIES:Church,Fellowship
END:VEVENT
END:VCALENDAR