BEGIN:VCALENDAR
VERSION:2.0
PRODID:-//Chartwell Church - ECPv4.9.13//NONSGML v1.0//EN
CALSCALE:GREGORIAN
METHOD:PUBLISH
X-WR-CALNAME:Chartwell Church
X-ORIGINAL-URL:https://www.chartwellchurch.org.nz
X-WR-CALDESC:Events for Chartwell Church
BEGIN:VTIMEZONE
TZID:Pacific/Auckland
BEGIN:STANDARD
TZOFFSETFROM:+1300
TZOFFSETTO:+1200
TZNAME:NZST
DTSTART:20190406T140000
END:STANDARD
BEGIN:DAYLIGHT
TZOFFSETFROM:+1200
TZOFFSETTO:+1300
TZNAME:NZDT
DTSTART:20190928T140000
END:DAYLIGHT
END:VTIMEZONE
BEGIN:VEVENT
DTSTART;TZID=Pacific/Auckland:20191128T093000
DTEND;TZID=Pacific/Auckland:20191128T120000
DTSTAMP:20191219T215808
CREATED:20181119T232625Z
LAST-MODIFIED:20181119T232625Z
UID:1295-1574933400-1574942400@www.chartwellchurch.org.nz
SUMMARY:Selwyn Centre
DESCRIPTION:Come along for a cup of tea and a good chat. Enjoy some games\, a bit of gentle exercise and some laughter and fun. For the over 65s. \nPlease phone Helen on 853 9998\, as spaces are limited. \n \n
URL:https://www.chartwellchurch.org.nz/event/selwyn-centre-57/
LOCATION:Chartwell Church\, 124 Comries Road\, Hamilton\, 3281\, New Zealand
CATEGORIES:Fellowship,Selwyn Centre
END:VEVENT
BEGIN:VEVENT
DTSTART;TZID=Pacific/Auckland:20191129T100000
DTEND;TZID=Pacific/Auckland:20191129T113000
DTSTAMP:20191219T215808
CREATED:20190303T230515Z
LAST-MODIFIED:20190328T230539Z
UID:1790-1575021600-1575027000@www.chartwellchurch.org.nz
SUMMARY:mainly music
DESCRIPTION:Every Friday during term time\, from 10am till 11.30am in the Church Hall. $3 per session. \nmainly music sessions are 30 minutes of song and dance for pre-schoolers\, followed by morning tea and a chance to chat. Contact Amanda on 855 7434. \n
URL:https://www.chartwellchurch.org.nz/event/mainly-music-45/
LOCATION:Chartwell Church\, 124 Comries Road\, Hamilton\, 3281\, New Zealand
CATEGORIES:Mainly Music
END:VEVENT
BEGIN:VEVENT
DTSTART;TZID=Pacific/Auckland:20191205T093000
DTEND;TZID=Pacific/Auckland:20191205T120000
DTSTAMP:20191219T215808
CREATED:20181119T232648Z
LAST-MODIFIED:20181119T232648Z
UID:1297-1575538200-1575547200@www.chartwellchurch.org.nz
SUMMARY:Selwyn Centre
DESCRIPTION:Come along for a cup of tea and a good chat. Enjoy some games\, a bit of gentle exercise and some laughter and fun. For the over 65s. \nPlease phone Helen on 853 9998\, as spaces are limited. \n \n
URL:https://www.chartwellchurch.org.nz/event/selwyn-centre-58/
LOCATION:Chartwell Church\, 124 Comries Road\, Hamilton\, 3281\, New Zealand
CATEGORIES:Fellowship,Selwyn Centre
END:VEVENT
BEGIN:VEVENT
DTSTART;TZID=Pacific/Auckland:20191206T100000
DTEND;TZID=Pacific/Auckland:20191206T113000
DTSTAMP:20191219T215808
CREATED:20190303T230621Z
LAST-MODIFIED:20190328T230255Z
UID:1792-1575626400-1575631800@www.chartwellchurch.org.nz
SUMMARY:mainly music
DESCRIPTION:Every Friday during term time\, from 10am till 11.30am in the Church Hall. $3 per session. \nmainly music sessions are 30 minutes of song and dance for pre-schoolers\, followed by morning tea and a chance to chat. Contact Amanda on 855 7434. \n
URL:https://www.chartwellchurch.org.nz/event/mainly-music-46/
LOCATION:Chartwell Church\, 124 Comries Road\, Hamilton\, 3281\, New Zealand
CATEGORIES:Mainly Music
END:VEVENT
END:VCALENDAR