BEGIN:VCALENDAR
VERSION:2.0
PRODID:-//Chartwell Cooperating Church - ECPv4.6.26.1//NONSGML v1.0//EN
CALSCALE:GREGORIAN
METHOD:PUBLISH
X-WR-CALNAME:Chartwell Cooperating Church
X-ORIGINAL-URL:https://www.chartwellchurch.org.nz
X-WR-CALDESC:Events for Chartwell Cooperating Church
BEGIN:VEVENT
DTSTART;TZID=Pacific/Auckland:20190117T093000
DTEND;TZID=Pacific/Auckland:20190117T120000
DTSTAMP:20181223T161923
CREATED:20181119T223835Z
LAST-MODIFIED:20181119T223835Z
UID:1205-1547717400-1547726400@www.chartwellchurch.org.nz
SUMMARY:Selwyn Centre
DESCRIPTION:Come along for a cup of tea and a good chat. Enjoy some games\, a bit of gentle exercise and some laughter and fun. For the over 65s. \nPlease phone Helen on 853 9998\, as spaces are limited. \n \n
URL:https://www.chartwellchurch.org.nz/event/selwyn-centre-12/
LOCATION:Chartwell Church\, 124 Comries Road\, Hamilton\, 3281\, New Zealand
CATEGORIES:Fellowship,Selwyn Centre
END:VEVENT
END:VCALENDAR