BEGIN:VCALENDAR
VERSION:2.0
PRODID:-//Chartwell Cooperating Church - ECPv4.6.26.1//NONSGML v1.0//EN
CALSCALE:GREGORIAN
METHOD:PUBLISH
X-WR-CALNAME:Chartwell Cooperating Church
X-ORIGINAL-URL:https://www.chartwellchurch.org.nz
X-WR-CALDESC:Events for Chartwell Cooperating Church
BEGIN:VEVENT
DTSTART;TZID=Pacific/Auckland:20181213T093000
DTEND;TZID=Pacific/Auckland:20181213T120000
DTSTAMP:20181223T161055
CREATED:20181029T221314Z
LAST-MODIFIED:20181029T221612Z
UID:1063-1544693400-1544702400@www.chartwellchurch.org.nz
SUMMARY:Selwyn Centre
DESCRIPTION:We are currently full but if you wish to go on the waiting list please phone Helen on 853 9998. \nCome along for a cup of tea and a good chat. Enjoy some games\, a bit of gentle exercise and some laughter and fun. For the over 65s. \n \n
URL:https://www.chartwellchurch.org.nz/event/selwyn-centre-10/
LOCATION:Chartwell Church\, 124 Comries Road\, Hamilton\, 3281\, New Zealand
CATEGORIES:Fellowship,Selwyn Centre
END:VEVENT
END:VCALENDAR