BEGIN:VCALENDAR
VERSION:2.0
PRODID:-//Chartwell Cooperating Church - ECPv4.6.26.1//NONSGML v1.0//EN
CALSCALE:GREGORIAN
METHOD:PUBLISH
X-WR-CALNAME:Chartwell Cooperating Church
X-ORIGINAL-URL:https://www.chartwellchurch.org.nz
X-WR-CALDESC:Events for Chartwell Cooperating Church
BEGIN:VEVENT
DTSTART;TZID=Pacific/Auckland:20181207T100000
DTEND;TZID=Pacific/Auckland:20181207T113000
DTSTAMP:20181223T160205
CREATED:20181029T222249Z
LAST-MODIFIED:20181029T222255Z
UID:1076-1544176800-1544182200@www.chartwellchurch.org.nz
SUMMARY:Mainly Music
DESCRIPTION: \nEvery Friday during term time\, from 10am till 11.30am in the Church Hall. $3 per session. Mainly Music sessions are 30 minutes of song and dance for pre-schoolers\, followed by morning tea and a chance to chat. Contact Amanda on 855 7434. \n
URL:https://www.chartwellchurch.org.nz/event/mainly-music-8/
LOCATION:Chartwell Church\, 124 Comries Road\, Hamilton\, 3281\, New Zealand
CATEGORIES:Mainly Music
END:VEVENT
END:VCALENDAR