BEGIN:VCALENDAR
VERSION:2.0
PRODID:-//Chartwell Cooperating Church - ECPv4.6.26.1//NONSGML v1.0//EN
CALSCALE:GREGORIAN
METHOD:PUBLISH
X-WR-CALNAME:Chartwell Cooperating Church
X-ORIGINAL-URL:https://www.chartwellchurch.org.nz
X-WR-CALDESC:Events for Chartwell Cooperating Church
BEGIN:VEVENT
DTSTART;TZID=Pacific/Auckland:20190121T083000
DTEND;TZID=Pacific/Auckland:20190121T163000
DTSTAMP:20181223T162102
CREATED:20181205T013323Z
LAST-MODIFIED:20181205T013323Z
UID:1328-1548059400-1548088200@www.chartwellchurch.org.nz
SUMMARY:Holiday Programme
DESCRIPTION:  \n
URL:https://www.chartwellchurch.org.nz/event/holiday-programme/
LOCATION:Chartwell Church\, 124 Comries Road\, Hamilton\, 3281\, New Zealand
CATEGORIES:Holiday Programme
ATTACH;FMTTYPE=image/jpeg:https://www.chartwellchurch.org.nz/wp-content/uploads/2018/12/HolidayClub-Planner.jpg
ORGANIZER;CN="Brad%20Clarke":MAILTO:Clarkebrad18@gmail.com
END:VEVENT
END:VCALENDAR